BEGIN:VCALENDAR
VERSION:2.0
PRODID:-//The Suquamish Tribe - ECPv6.15.20//NONSGML v1.0//EN
CALSCALE:GREGORIAN
METHOD:PUBLISH
X-WR-CALNAME:The Suquamish Tribe
X-ORIGINAL-URL:https://suquamish.nsn.us
X-WR-CALDESC:Events for The Suquamish Tribe
REFRESH-INTERVAL;VALUE=DURATION:PT1H
X-Robots-Tag:noindex
X-PUBLISHED-TTL:PT1H
BEGIN:VTIMEZONE
TZID:America/Vancouver
BEGIN:DAYLIGHT
TZOFFSETFROM:-0800
TZOFFSETTO:-0700
TZNAME:PDT
DTSTART:20220313T100000
END:DAYLIGHT
BEGIN:STANDARD
TZOFFSETFROM:-0700
TZOFFSETTO:-0800
TZNAME:PST
DTSTART:20221106T090000
END:STANDARD
BEGIN:DAYLIGHT
TZOFFSETFROM:-0800
TZOFFSETTO:-0700
TZNAME:PDT
DTSTART:20230312T100000
END:DAYLIGHT
BEGIN:STANDARD
TZOFFSETFROM:-0700
TZOFFSETTO:-0800
TZNAME:PST
DTSTART:20231105T090000
END:STANDARD
BEGIN:DAYLIGHT
TZOFFSETFROM:-0800
TZOFFSETTO:-0700
TZNAME:PDT
DTSTART:20240310T100000
END:DAYLIGHT
BEGIN:STANDARD
TZOFFSETFROM:-0700
TZOFFSETTO:-0800
TZNAME:PST
DTSTART:20241103T090000
END:STANDARD
END:VTIMEZONE
BEGIN:VEVENT
DTSTART;TZID=America/Vancouver:20230613T130000
DTEND;TZID=America/Vancouver:20230613T150000
DTSTAMP:20260421T015903
CREATED:20230608T232048Z
LAST-MODIFIED:20230610T204613Z
UID:26098-1686661200-1686668400@suquamish.nsn.us
SUMMARY:PRIDE WALK!
DESCRIPTION:PRIDE WALK! \nThe Suquamish Tribe will be hosting a Pride Walk on Tuesday\,  June 13\, from 1-3pm \nBegin at the Suquamish Administration building parking lot at 1:15 to walk down to the House of Awakened Culture where tribal members will speak on Pride. There will be T-shirts and lunch. \n  \nVICTIM SERVICES flags \nVictim Services has rainbow flag pins to give away\, while supplies last. At the front desk!
URL:https://suquamish.nsn.us/event/pride-walk/
ATTACH;FMTTYPE=image/jpeg:https://suquamish.nsn.us/wp-content/uploads/2023/06/pride.jpg
END:VEVENT
END:VCALENDAR