BEGIN:VCALENDAR
VERSION:2.0
PRODID:-//The Suquamish Tribe - ECPv6.15.20//NONSGML v1.0//EN
CALSCALE:GREGORIAN
METHOD:PUBLISH
X-WR-CALNAME:The Suquamish Tribe
X-ORIGINAL-URL:https://suquamish.nsn.us
X-WR-CALDESC:Events for The Suquamish Tribe
REFRESH-INTERVAL;VALUE=DURATION:PT1H
X-Robots-Tag:noindex
X-PUBLISHED-TTL:PT1H
BEGIN:VTIMEZONE
TZID:America/Vancouver
BEGIN:DAYLIGHT
TZOFFSETFROM:-0800
TZOFFSETTO:-0700
TZNAME:PDT
DTSTART:20250309T100000
END:DAYLIGHT
BEGIN:STANDARD
TZOFFSETFROM:-0700
TZOFFSETTO:-0800
TZNAME:PST
DTSTART:20251102T090000
END:STANDARD
BEGIN:DAYLIGHT
TZOFFSETFROM:-0800
TZOFFSETTO:-0700
TZNAME:PDT
DTSTART:20260308T100000
END:DAYLIGHT
BEGIN:STANDARD
TZOFFSETFROM:-0700
TZOFFSETTO:-0800
TZNAME:PST
DTSTART:20261101T090000
END:STANDARD
BEGIN:DAYLIGHT
TZOFFSETFROM:-0800
TZOFFSETTO:-0700
TZNAME:PDT
DTSTART:20270314T100000
END:DAYLIGHT
BEGIN:STANDARD
TZOFFSETFROM:-0700
TZOFFSETTO:-0800
TZNAME:PST
DTSTART:20271107T090000
END:STANDARD
END:VTIMEZONE
BEGIN:VEVENT
DTSTART;TZID=America/Vancouver:20260113T170000
DTEND;TZID=America/Vancouver:20260113T190000
DTSTAMP:20260421T192343
CREATED:20251223T164911Z
LAST-MODIFIED:20251223T164911Z
UID:41079-1768323600-1768330800@suquamish.nsn.us
SUMMARY:Suquamish Culture Night
DESCRIPTION:5pm-7pm \nOld Tribal Center \n158353 Sandy Hook Rd. Poulsbo Wa. 98370
URL:https://suquamish.nsn.us/event/suquamish-culture-night-5/
LOCATION:WA
ATTACH;FMTTYPE=image/jpeg:https://suquamish.nsn.us/wp-content/uploads/2025/12/January-Culture-Night-2.jpg
END:VEVENT
BEGIN:VEVENT
DTSTART;TZID=America/Vancouver:20260114T173000
DTEND;TZID=America/Vancouver:20260114T190000
DTSTAMP:20260421T192343
CREATED:20251223T164710Z
LAST-MODIFIED:20251223T164710Z
UID:41076-1768411800-1768417200@suquamish.nsn.us
SUMMARY:Energy Resources & More
DESCRIPTION:Join the Climate Resiliency Program
URL:https://suquamish.nsn.us/event/energy-resources-more/
LOCATION:House of Awakened Culture\, 7235 NE Parkway\, Suquamish\, WA\, 98392\, United States
ATTACH;FMTTYPE=image/jpeg:https://suquamish.nsn.us/wp-content/uploads/2025/12/SEP-Community-Event-V.3.jpg
END:VEVENT
BEGIN:VEVENT
DTSTART;TZID=America/Vancouver:20260117T100000
DTEND;TZID=America/Vancouver:20260117T140000
DTSTAMP:20260421T192343
CREATED:20251223T164405Z
LAST-MODIFIED:20251223T164405Z
UID:41070-1768644000-1768658400@suquamish.nsn.us
SUMMARY:Cedar Rose Bouquet Workshop
DESCRIPTION:Sat. Jan.17 \n10am-2pm
URL:https://suquamish.nsn.us/event/cedar-rose-bouquet-workshop/
LOCATION:Suquamish Museum\, 6861 South Street\, Suquamish \, WA\, 98392\, United States
ATTACH;FMTTYPE=image/jpeg:https://suquamish.nsn.us/wp-content/uploads/2025/12/thumbnail_Cedar-Rose-Bouquet-2026-3-x-4-in.jpg
END:VEVENT
BEGIN:VEVENT
DTSTART;TZID=America/Vancouver:20260119T080000
DTEND;TZID=America/Vancouver:20260119T163000
DTSTAMP:20260421T192343
CREATED:20251205T185320Z
LAST-MODIFIED:20251205T185320Z
UID:40844-1768809600-1768840200@suquamish.nsn.us
SUMMARY:MLK Jr. Day   Suquamish Tribal Offices CLOSED
DESCRIPTION:
URL:https://suquamish.nsn.us/event/mlk-jr-day-suquamish-tribal-offices-closed/
LOCATION:WA
END:VEVENT
BEGIN:VEVENT
DTSTART;TZID=America/Vancouver:20260131T170000
DTEND;TZID=America/Vancouver:20260131T220000
DTSTAMP:20260421T192343
CREATED:20251223T165838Z
LAST-MODIFIED:20251223T165838Z
UID:41097-1769878800-1769896800@suquamish.nsn.us
SUMMARY:Coastal Jam
DESCRIPTION:Jan.26 @ 5pm
URL:https://suquamish.nsn.us/event/coastal-jam/
LOCATION:House of Awakened Culture\, 7235 NE Parkway\, Suquamish\, WA\, 98392\, United States
ATTACH;FMTTYPE=image/jpeg:https://suquamish.nsn.us/wp-content/uploads/2025/12/UpdatedCulturalResourcesFlyer.jpg
END:VEVENT
BEGIN:VEVENT
DTSTART;TZID=America/Vancouver:20260201T090000
DTEND;TZID=America/Vancouver:20260214T160000
DTSTAMP:20260421T192343
CREATED:20260210T205633Z
LAST-MODIFIED:20260210T205633Z
UID:42225-1769936400-1771084800@suquamish.nsn.us
SUMMARY:Suquamish Museum FREE Valentine's Gift for our Museum Members
DESCRIPTION:February 1-14 \n9am-4pm
URL:https://suquamish.nsn.us/event/suquamish-museum-free-valentines-gift-for-our-museum-members/
LOCATION:Suquamish Museum\, 6861 NE South St\, Suquamish\, WA\, 98392\, United States
END:VEVENT
BEGIN:VEVENT
DTSTART;TZID=America/Vancouver:20260210T080000
DTEND;TZID=America/Vancouver:20260210T170000
DTSTAMP:20260421T192343
CREATED:20260210T210654Z
LAST-MODIFIED:20260210T210654Z
UID:42231-1770710400-1770742800@suquamish.nsn.us
SUMMARY:Feather Beading Workshop
DESCRIPTION:Feb. 15 & 16 \n10am-2pm \nAt Family & Friends Center \nContact Hazel Pacquette (360) 622-5318 \n 
URL:https://suquamish.nsn.us/event/feather-beading-workshop/
LOCATION:Family & Friends Youth Center\, 5243 Totten Road\, Poulsbo\, 98370
END:VEVENT
BEGIN:VEVENT
DTSTART;TZID=America/Vancouver:20260211T090000
DTEND;TZID=America/Vancouver:20260215T160000
DTSTAMP:20260421T192343
CREATED:20260210T205912Z
LAST-MODIFIED:20260210T205912Z
UID:42228-1770800400-1771171200@suquamish.nsn.us
SUMMARY:Suquamish Museum FREE Bee My Valentine Card Making
DESCRIPTION:Feb. 11-15\,2026 \n9am-4pm \n 
URL:https://suquamish.nsn.us/event/suquamish-museum-free-bee-my-valentine-card-making/
LOCATION:WA
END:VEVENT
BEGIN:VEVENT
DTSTART;TZID=America/Vancouver:20260214T100000
DTEND;TZID=America/Vancouver:20260214T140000
DTSTAMP:20260421T192343
CREATED:20260210T204508Z
LAST-MODIFIED:20260210T205142Z
UID:42219-1771063200-1771077600@suquamish.nsn.us
SUMMARY:Cedar Hearts Workshop at Suquamish Museum
DESCRIPTION:10am-2pm \nAt Suquamish Museum \n$30 per person \nAll materials provided \nTo register: call (360) 394-7105
URL:https://suquamish.nsn.us/event/cedar-hearts-workshop-at-suquamish-museum/
LOCATION:Suquamish Museum\, 6861 South Street\, Suquamish \, WA\, 98392\, United States
END:VEVENT
BEGIN:VEVENT
DTSTART;TZID=America/Vancouver:20260222T093000
DTEND;TZID=America/Vancouver:20260222T113000
DTSTAMP:20260421T192343
CREATED:20260210T204253Z
LAST-MODIFIED:20260210T204253Z
UID:42216-1771752600-1771759800@suquamish.nsn.us
SUMMARY:Fatherhood Circle
DESCRIPTION:9:30am-11:30am
URL:https://suquamish.nsn.us/event/fatherhood-circle/
LOCATION:WA
ATTACH;FMTTYPE=image/jpeg:https://suquamish.nsn.us/wp-content/uploads/2026/02/Fatherhood-Circle-Flyer.jpg
END:VEVENT
BEGIN:VEVENT
DTSTART;TZID=America/Vancouver:20260311T090000
DTEND;TZID=America/Vancouver:20260315T160000
DTSTAMP:20260421T192343
CREATED:20260219T192519Z
LAST-MODIFIED:20260219T192519Z
UID:42332-1773219600-1773590400@suquamish.nsn.us
SUMMARY:St. Patrick's Day FREE Bookmark Activity at Suquamish Museum
DESCRIPTION:March 11-15 \, 2026 \n9am-4pm
URL:https://suquamish.nsn.us/event/st-patricks-day-free-bookmark-activity-at-suquamish-museum/
LOCATION:WA
ATTACH;FMTTYPE=image/jpeg:https://suquamish.nsn.us/wp-content/uploads/2026/02/StPatricks-3-x-3-1.jpg
END:VEVENT
BEGIN:VEVENT
DTSTART;TZID=America/Vancouver:20260313T090000
DTEND;TZID=America/Vancouver:20260315T160000
DTSTAMP:20260421T192343
CREATED:20260219T191423Z
LAST-MODIFIED:20260219T191423Z
UID:42323-1773392400-1773590400@suquamish.nsn.us
SUMMARY:General Council Sale get 10% off at Suquamish Museum
DESCRIPTION:March 13-15\,2026 \n9am-4pm
URL:https://suquamish.nsn.us/event/general-council-sale-get-10-off-at-suquamish-museum/
LOCATION:Suquamish Museum\, 6861 South Street\, Suquamish \, WA\, 98392\, United States
ATTACH;FMTTYPE=image/png:https://suquamish.nsn.us/wp-content/uploads/2026/02/General-Council-Sale-3-x-3-2.png
END:VEVENT
BEGIN:VEVENT
DTSTART;TZID=America/Vancouver:20260314T090000
DTEND;TZID=America/Vancouver:20260315T190000
DTSTAMP:20260421T192343
CREATED:20260210T211045Z
LAST-MODIFIED:20260304T230202Z
UID:42234-1773478800-1773601200@suquamish.nsn.us
SUMMARY:Suquamish General Council Meeting
DESCRIPTION:
URL:https://suquamish.nsn.us/event/suquamish-general-council-meeting/
LOCATION:Kiana Lodge\, 14976 Sandy Hook Rd NE\, Poulsbo\, WA\, 98370\, United States
ATTACH;FMTTYPE=image/png:https://suquamish.nsn.us/wp-content/uploads/2013/02/Suquamish-Logo-Transparent-4.png
END:VEVENT
BEGIN:VEVENT
DTSTART;TZID=America/Vancouver:20260314T100000
DTEND;TZID=America/Vancouver:20260314T140000
DTSTAMP:20260421T192343
CREATED:20260219T192224Z
LAST-MODIFIED:20260219T192224Z
UID:42329-1773482400-1773496800@suquamish.nsn.us
SUMMARY:Small Cedar Basket Workshop at the Suquamish Museum
DESCRIPTION:March 14\,2026 \n10 am-2 pm \n$120 per person
URL:https://suquamish.nsn.us/event/small-cedar-basket-workshop-at-the-suquamish-museum/
LOCATION:Suquamish Museum\, 6861 South Street\, Suquamish \, WA\, 98392\, United States
ATTACH;FMTTYPE=image/jpeg:https://suquamish.nsn.us/wp-content/uploads/2026/02/Small-Cedar-Basket-2026-3-x-4-in.jpg
END:VEVENT
BEGIN:VEVENT
DTSTART;TZID=America/Vancouver:20260316T080000
DTEND;TZID=America/Vancouver:20260316T163000
DTSTAMP:20260421T192343
CREATED:20260210T211602Z
LAST-MODIFIED:20260304T230437Z
UID:42237-1773648000-1773678600@suquamish.nsn.us
SUMMARY:Sovereignty Day (Government Offices Closed)
DESCRIPTION:
URL:https://suquamish.nsn.us/event/tribal-government-offices-closed/
LOCATION:WA
ATTACH;FMTTYPE=image/jpeg:https://suquamish.nsn.us/wp-content/uploads/2022/04/Tribal-Council-Logo-with-space.jpg
END:VEVENT
BEGIN:VEVENT
DTSTART;TZID=America/Vancouver:20260319T090000
DTEND;TZID=America/Vancouver:20260319T140000
DTSTAMP:20260421T192343
CREATED:20260304T202409Z
LAST-MODIFIED:20260304T202409Z
UID:42457-1773910800-1773928800@suquamish.nsn.us
SUMMARY:2026 Next Generation Career & Education Fair
DESCRIPTION:Hosted by the Suquamish Tribe and Port Madison Enterprises \nMarch 19\, \n9am-2pm \nKiana Lodge
URL:https://suquamish.nsn.us/event/2026-next-generation-career-education-fair/
LOCATION:Kiana Lodge\, 14976 Sandy Hook Rd NE\, Poulsbo\, WA\, 98370\, United States
ATTACH;FMTTYPE=image/jpeg:https://suquamish.nsn.us/wp-content/uploads/2026/03/2026-Career-Fair-Flyer.jpg
END:VEVENT
BEGIN:VEVENT
DTSTART;TZID=America/Vancouver:20260401T090000
DTEND;TZID=America/Vancouver:20260401T160000
DTSTAMP:20260421T192343
CREATED:20260319T215106Z
LAST-MODIFIED:20260408T205733Z
UID:42613-1775034000-1775059200@suquamish.nsn.us
SUMMARY:Free Mini Exhibition Suquamish Museum
DESCRIPTION:  \n 
URL:https://suquamish.nsn.us/event/free-mini-exhibition-suquamish-museum/
LOCATION:WA
ATTACH;FMTTYPE=image/jpeg:https://suquamish.nsn.us/wp-content/uploads/2026/03/Mini-Exhibition-2.jpg
END:VEVENT
BEGIN:VEVENT
DTSTART;TZID=America/Vancouver:20260401T090000
DTEND;TZID=America/Vancouver:20260410T160000
DTSTAMP:20260421T192343
CREATED:20260319T213643Z
LAST-MODIFIED:20260319T213643Z
UID:42598-1775034000-1775836800@suquamish.nsn.us
SUMMARY:Complimentary Easter Craft at Suquamish Museum
DESCRIPTION:April 1-10\,2026 \nMuseum open Wed.-Fri. 9am – 4pm
URL:https://suquamish.nsn.us/event/complimentary-easter-craft-at-suquamish-museum/
LOCATION:Suquamish Museum\, 6861 NE South St\, Suquamish\, WA\, 98392\, United States
ATTACH;FMTTYPE=image/jpeg:https://suquamish.nsn.us/wp-content/uploads/2026/03/EasterActivity2026-1.jpg
END:VEVENT
BEGIN:VEVENT
DTSTART;TZID=America/Vancouver:20260402T170000
DTEND;TZID=America/Vancouver:20260402T190000
DTSTAMP:20260421T192343
CREATED:20260319T171020Z
LAST-MODIFIED:20260319T171020Z
UID:42569-1775149200-1775156400@suquamish.nsn.us
SUMMARY:Healthy Cooking
DESCRIPTION:April 2 \n5pm @ CKA Kitchen
URL:https://suquamish.nsn.us/event/healthy-cooking/
LOCATION:Chief Kitsap Academy\, 16301 Creative Drive NE\, Poulsbo\, WA\, 98370\, United States
ATTACH;FMTTYPE=image/jpeg:https://suquamish.nsn.us/wp-content/uploads/2026/03/SWU-Graphics-2026-03-17T110501.212.jpg
END:VEVENT
BEGIN:VEVENT
DTSTART;TZID=America/Vancouver:20260408T090000
DTEND;TZID=America/Vancouver:20260424T160000
DTSTAMP:20260421T192343
CREATED:20260319T214205Z
LAST-MODIFIED:20260319T214205Z
UID:42604-1775638800-1777046400@suquamish.nsn.us
SUMMARY:Suquamish Museum Native Plant Seed Gift
DESCRIPTION:April 8-24\,2026 \n 
URL:https://suquamish.nsn.us/event/suquamish-museum-native-plant-seed-gift/
LOCATION:WA
ATTACH;FMTTYPE=image/jpeg:https://suquamish.nsn.us/wp-content/uploads/2026/03/Seed-Gift-1.jpg
END:VEVENT
BEGIN:VEVENT
DTSTART;TZID=America/Vancouver:20260410T100000
DTEND;TZID=America/Vancouver:20260410T160000
DTSTAMP:20260421T192343
CREATED:20260319T214628Z
LAST-MODIFIED:20260408T220935Z
UID:42610-1775815200-1775836800@suquamish.nsn.us
SUMMARY:Cedar Weaving Workshop: Salt & Pepper Shakers
DESCRIPTION:
URL:https://suquamish.nsn.us/event/cedar-weaving-workshop-salt-pepper-shakers/
LOCATION:Suquamish Museum\, 6861 NE South St\, Suquamish\, WA\, 98392\, United States
ATTACH;FMTTYPE=image/jpeg:https://suquamish.nsn.us/wp-content/uploads/2026/03/SaltPepperWorkshop.jpg
END:VEVENT
BEGIN:VEVENT
DTSTART;TZID=America/Vancouver:20260410T163000
DTEND;TZID=America/Vancouver:20260410T183000
DTSTAMP:20260421T192343
CREATED:20260408T221114Z
LAST-MODIFIED:20260408T221114Z
UID:42869-1775838600-1775845800@suquamish.nsn.us
SUMMARY:Powwow Royalty Etiquette Class
DESCRIPTION:
URL:https://suquamish.nsn.us/event/powwow-royalty-etiquette-class/
LOCATION:Family & Friends Youth Center\, 5243 Totten Road\, Poulsbo\, 98370
ATTACH;FMTTYPE=image/jpeg:https://suquamish.nsn.us/wp-content/uploads/2026/04/663263678_122290203764236883_7245040864606313080_n.jpg
END:VEVENT
BEGIN:VEVENT
DTSTART;TZID=America/Vancouver:20260410T170000
DTEND;TZID=America/Vancouver:20260411T153000
DTSTAMP:20260421T192343
CREATED:20260401T155439Z
LAST-MODIFIED:20260408T205700Z
UID:42738-1775840400-1775921400@suquamish.nsn.us
SUMMARY:Spring Greens Suquamish Tribe Traditional Food & Medicine Program
DESCRIPTION:
URL:https://suquamish.nsn.us/event/spring-greens-suquamish-tribe-traditional-food-medicine-program/
LOCATION:House of Awakened Culture\, 7235 NE Parkway\, Suquamish\, WA\, 98392\, United States
ATTACH;FMTTYPE=image/jpeg:https://suquamish.nsn.us/wp-content/uploads/2026/04/Flyer-2026.jpg
END:VEVENT
BEGIN:VEVENT
DTSTART;TZID=America/Vancouver:20260414T113000
DTEND;TZID=America/Vancouver:20260414T140000
DTSTAMP:20260421T192343
CREATED:20260408T202629Z
LAST-MODIFIED:20260408T215558Z
UID:42825-1776166200-1776175200@suquamish.nsn.us
SUMMARY:Tribal Canoe Journey Giveaways
DESCRIPTION:
URL:https://suquamish.nsn.us/event/tribal-canoe-journey-giveaways/
LOCATION:Suquamish Tribal Council Chambers\, 18490 Suquamish Way NE\, Suquamish\, WA\, 98392\, United States
ATTACH;FMTTYPE=image/jpeg:https://suquamish.nsn.us/wp-content/uploads/2026/04/TCJ-Giveaway-Workshop-1.jpg
END:VEVENT
BEGIN:VEVENT
DTSTART;TZID=America/Vancouver:20260415T080000
DTEND;TZID=America/Vancouver:20260415T170000
DTSTAMP:20260421T192343
CREATED:20260408T215530Z
LAST-MODIFIED:20260408T215914Z
UID:42852-1776240000-1776272400@suquamish.nsn.us
SUMMARY:Bring Your Own Craft
DESCRIPTION:
URL:https://suquamish.nsn.us/event/bring-your-own-craft/
LOCATION:Family & Friends Youth Center\, 5243 Totten Road\, Poulsbo\, 98370
ATTACH;FMTTYPE=image/jpeg:https://suquamish.nsn.us/wp-content/uploads/2026/04/658321909_895215936851400_8232539905919700701_n.jpg
END:VEVENT
BEGIN:VEVENT
DTSTART;TZID=America/Vancouver:20260416T113000
DTEND;TZID=America/Vancouver:20260416T140000
DTSTAMP:20260421T192343
CREATED:20260408T202810Z
LAST-MODIFIED:20260408T203051Z
UID:42829-1776339000-1776348000@suquamish.nsn.us
SUMMARY:Tribal Canoe Journey Giveaways
DESCRIPTION:
URL:https://suquamish.nsn.us/event/tribal-canoe-journey-giveaways-2/
LOCATION:Suquamish Tribal Council Chambers\, 18490 Suquamish Way NE\, Suquamish\, WA\, 98392\, United States
ATTACH;FMTTYPE=image/jpeg:https://suquamish.nsn.us/wp-content/uploads/2026/04/TCJ-Giveaway-Workshop-1.jpg
END:VEVENT
BEGIN:VEVENT
DTSTART;TZID=America/Vancouver:20260421T120000
DTEND;TZID=America/Vancouver:20260421T130000
DTSTAMP:20260421T192343
CREATED:20260319T171233Z
LAST-MODIFIED:20260319T171233Z
UID:42572-1776772800-1776776400@suquamish.nsn.us
SUMMARY:Lunch & Learn
DESCRIPTION:April 21 \n12:15pm in Elders Lunchroom
URL:https://suquamish.nsn.us/event/lunch-learn-2/
LOCATION:WA
ATTACH;FMTTYPE=image/jpeg:https://suquamish.nsn.us/wp-content/uploads/2026/03/SWU-Graphics-2026-03-17T110454.815.jpg
END:VEVENT
BEGIN:VEVENT
DTSTART;TZID=America/Vancouver:20260422T080000
DTEND;TZID=America/Vancouver:20260422T170000
DTSTAMP:20260421T192343
CREATED:20260408T215744Z
LAST-MODIFIED:20260408T215744Z
UID:42858-1776844800-1776877200@suquamish.nsn.us
SUMMARY:Bring Your Own Craft
DESCRIPTION:
URL:https://suquamish.nsn.us/event/bring-your-own-craft-2/
LOCATION:Family & Friends Youth Center\, 5243 Totten Road\, Poulsbo\, 98370
ATTACH;FMTTYPE=image/jpeg:https://suquamish.nsn.us/wp-content/uploads/2026/04/658321909_895215936851400_8232539905919700701_n.jpg
END:VEVENT
BEGIN:VEVENT
DTSTART;TZID=America/Vancouver:20260424T170000
DTEND;TZID=America/Vancouver:20260424T223000
DTSTAMP:20260421T192343
CREATED:20260304T201526Z
LAST-MODIFIED:20260304T225949Z
UID:42451-1777050000-1777069800@suquamish.nsn.us
SUMMARY:Suquamish Renewal Powwow Coastal Jam
DESCRIPTION:
URL:https://suquamish.nsn.us/event/suquamish-renewal-powwow-coastal-jam/
LOCATION:House of Awakened Culture\, 7235 NE Parkway\, Suquamish\, WA\, 98392\, United States
CATEGORIES:Community Events,Culture,Wellness Center
ATTACH;FMTTYPE=image/jpeg:https://suquamish.nsn.us/wp-content/uploads/2026/03/637903554_2456059888185589_4357632923057239969_n.jpg
END:VEVENT
BEGIN:VEVENT
DTSTART;TZID=America/Vancouver:20260425T110000
DTEND;TZID=America/Vancouver:20260425T190000
DTSTAMP:20260421T192343
CREATED:20260304T201956Z
LAST-MODIFIED:20260304T225419Z
UID:42454-1777114800-1777143600@suquamish.nsn.us
SUMMARY:Suquamish Renewal Powwow
DESCRIPTION:Suquamish Clearwater Casino & Resort in the Canoe Event Center \n\nSat . April 25 – Grand Entry @ 1pm & 7pm\nSun. April 26 – Grand Entry 1pm\n\n  \n 
URL:https://suquamish.nsn.us/event/suquamish-renewal-powwow-4/
LOCATION:Suquamish Clearwater Casino Resort\, 15347 Suquamish Way NE\, Suquamish\, WA\, 98392\, United States
CATEGORIES:Community Events,Culture,Wellness Center
ATTACH;FMTTYPE=image/jpeg:https://suquamish.nsn.us/wp-content/uploads/2026/03/637903554_2456059888185589_4357632923057239969_n.jpg
END:VEVENT
END:VCALENDAR