BEGIN:VCALENDAR
VERSION:2.0
PRODID:-//The Suquamish Tribe - ECPv6.15.20//NONSGML v1.0//EN
CALSCALE:GREGORIAN
METHOD:PUBLISH
X-WR-CALNAME:The Suquamish Tribe
X-ORIGINAL-URL:https://suquamish.nsn.us
X-WR-CALDESC:Events for The Suquamish Tribe
REFRESH-INTERVAL;VALUE=DURATION:PT1H
X-Robots-Tag:noindex
X-PUBLISHED-TTL:PT1H
BEGIN:VTIMEZONE
TZID:America/Vancouver
BEGIN:DAYLIGHT
TZOFFSETFROM:-0800
TZOFFSETTO:-0700
TZNAME:PDT
DTSTART:20210314T100000
END:DAYLIGHT
BEGIN:STANDARD
TZOFFSETFROM:-0700
TZOFFSETTO:-0800
TZNAME:PST
DTSTART:20211107T090000
END:STANDARD
BEGIN:DAYLIGHT
TZOFFSETFROM:-0800
TZOFFSETTO:-0700
TZNAME:PDT
DTSTART:20220313T100000
END:DAYLIGHT
BEGIN:STANDARD
TZOFFSETFROM:-0700
TZOFFSETTO:-0800
TZNAME:PST
DTSTART:20221106T090000
END:STANDARD
BEGIN:DAYLIGHT
TZOFFSETFROM:-0800
TZOFFSETTO:-0700
TZNAME:PDT
DTSTART:20230312T100000
END:DAYLIGHT
BEGIN:STANDARD
TZOFFSETFROM:-0700
TZOFFSETTO:-0800
TZNAME:PST
DTSTART:20231105T090000
END:STANDARD
END:VTIMEZONE
BEGIN:VEVENT
DTSTART;TZID=America/Vancouver:20221204T120000
DTEND;TZID=America/Vancouver:20221204T160000
DTSTAMP:20260421T072840
CREATED:20221129T214211Z
LAST-MODIFIED:20221129T214330Z
UID:24070-1670155200-1670169600@suquamish.nsn.us
SUMMARY:Suquamish Tribal Elders Holiday Party
DESCRIPTION:Dec.4\, 2022 \nNoon-4pm @ Kiana Lodge
URL:https://suquamish.nsn.us/event/elders-holiday-party/
LOCATION:WA
ATTACH;FMTTYPE=image/jpeg:https://suquamish.nsn.us/wp-content/uploads/2022/11/qtq80-AAhDnx.jpeg
END:VEVENT
BEGIN:VEVENT
DTSTART;TZID=America/Vancouver:20221203T090000
DTEND;TZID=America/Vancouver:20221204T160000
DTSTAMP:20260421T072840
CREATED:20221025T182108Z
LAST-MODIFIED:20221025T182115Z
UID:23551-1670058000-1670169600@suquamish.nsn.us
SUMMARY:Suquamish Holiday Bazaar
DESCRIPTION:Dec.3 & 4 @ 9am-4pm \nHouse of Awakened Culture \nFREE Admission\, Local Vendors & Homemade Gifts
URL:https://suquamish.nsn.us/event/suquamish-holiday-bazaar-2/
LOCATION:House of Awakened Culture\, 7235 NE Parkway\, Suquamish\, WA\, 98392\, United States
ATTACH;FMTTYPE=image/jpeg:https://suquamish.nsn.us/wp-content/uploads/2022/10/11-19-22_Holiday-Bazaar-Flyer-2022-scaled.jpg
END:VEVENT
BEGIN:VEVENT
DTSTART;TZID=America/Vancouver:20221201T180000
DTEND;TZID=America/Vancouver:20221201T200000
DTSTAMP:20260421T072840
CREATED:20221129T213803Z
LAST-MODIFIED:20221129T213803Z
UID:24066-1669917600-1669924800@suquamish.nsn.us
SUMMARY:Tree Lighting at Resort Hotel
DESCRIPTION:Dec. 1\,2022 @ 6-8pm \nResort Hotel Lobby
URL:https://suquamish.nsn.us/event/tree-lighting-at-resort-hotel/
LOCATION:WA
ATTACH;FMTTYPE=image/jpeg:https://suquamish.nsn.us/wp-content/uploads/2022/11/qtq80-CB84sr.jpeg
END:VEVENT
BEGIN:VEVENT
DTSTART;TZID=America/Vancouver:20221201T120000
DTEND;TZID=America/Vancouver:20221201T180000
DTSTAMP:20260421T072840
CREATED:20221129T213340Z
LAST-MODIFIED:20221129T213340Z
UID:24063-1669896000-1669917600@suquamish.nsn.us
SUMMARY:Giveaway of Graham Cracker Kit for "Longhouse" building competition
DESCRIPTION:Dec. 1\, 2022 \nNOON-6PM \nAt Old Tribal Center\, while supplies last. Winners will be announced at the Dec. 9 Community Christmas Party
URL:https://suquamish.nsn.us/event/giveaway-of-graham-cracker-kit-for-longhouse-building-competition/
LOCATION:WA
END:VEVENT
BEGIN:VEVENT
DTSTART;TZID=America/Vancouver:20221130T153000
DTEND;TZID=America/Vancouver:20221130T193000
DTSTAMP:20260421T072840
CREATED:20221020T214555Z
LAST-MODIFIED:20221024T202207Z
UID:23452-1669822200-1669836600@suquamish.nsn.us
SUMMARY:Culture Night- Getting Ready for Winter
DESCRIPTION:  \nNov. 30\,2022 @ 3:30-7:30pm \nQuestions (360) 394-8576
URL:https://suquamish.nsn.us/event/geeting-ready-for-winter-culture-night/
LOCATION:House of Awakened Culture\, 7235 NE Parkway\, Suquamish\, WA\, 98392\, United States
ATTACH;FMTTYPE=image/png:https://suquamish.nsn.us/wp-content/uploads/2022/10/11-30-22_culture-night-nov.png
END:VEVENT
BEGIN:VEVENT
DTSTART;TZID=America/Vancouver:20221124T080000
DTEND;TZID=America/Vancouver:20221125T163000
DTSTAMP:20260421T072840
CREATED:20221021T001852Z
LAST-MODIFIED:20221021T001858Z
UID:23508-1669276800-1669393800@suquamish.nsn.us
SUMMARY:Thanksgiving Day
DESCRIPTION:Thanksgiving Day Nov.24 & 25 \nAll Tribal Government Offices Closed
URL:https://suquamish.nsn.us/event/thanksgiving-day/
LOCATION:WA
END:VEVENT
BEGIN:VEVENT
DTSTART;TZID=America/Vancouver:20221119T100000
DTEND;TZID=America/Vancouver:20221119T160000
DTSTAMP:20260421T072840
CREATED:20221021T000123Z
LAST-MODIFIED:20221108T174952Z
UID:23496-1668852000-1668873600@suquamish.nsn.us
SUMMARY:Wool & Cedar Weaving with Denita Holmes
DESCRIPTION:Suquamish Tribal Member Households \nCedar Ornaments Nov. 19 Sat. 10am-4pm \nPlease sign up if you can make both classes please call (360) 394-8576 or email fandfcenter@suquamish.nsn.us \n 
URL:https://suquamish.nsn.us/event/wool-cedar-weaving-with-denita-holmes-2/
LOCATION:WA
CATEGORIES:Community Events,Family & Friends Center
ATTACH;FMTTYPE=image/png:https://suquamish.nsn.us/wp-content/uploads/2022/10/11-16-22_wool-weaving.png
END:VEVENT
BEGIN:VEVENT
DTSTART;TZID=America/Vancouver:20221119T090000
DTEND;TZID=America/Vancouver:20221120T160000
DTSTAMP:20260421T072840
CREATED:20221020T215033Z
LAST-MODIFIED:20221102T155016Z
UID:23456-1668848400-1668960000@suquamish.nsn.us
SUMMARY:Suquamish Holiday Bazaar
DESCRIPTION:Nov. 19 & 20 @ 9am-4pm
URL:https://suquamish.nsn.us/event/suquamish-holiday-bazaar/
LOCATION:House of Awakened Culture\, 7235 NE Parkway\, Suquamish\, WA\, 98392\, United States
ATTACH;FMTTYPE=image/jpeg:https://suquamish.nsn.us/wp-content/uploads/2022/10/11-19-22_Holiday-Bazaar-Flyer-2022-scaled.jpg
END:VEVENT
BEGIN:VEVENT
DTSTART;TZID=America/Vancouver:20221118T110000
DTEND;TZID=America/Vancouver:20221118T150000
DTSTAMP:20260421T072840
CREATED:20221028T003613Z
LAST-MODIFIED:20221028T003613Z
UID:23641-1668769200-1668783600@suquamish.nsn.us
SUMMARY:Pop up Shop: Kippie Joe featured at Suquamish Museum
DESCRIPTION:
URL:https://suquamish.nsn.us/event/pop-up-shop-kippie-joe-featured-at-suquamish-museum/
LOCATION:Suquamish Museum\, 6861 NE South St\, Suquamish\, WA\, 98392\, United States
CATEGORIES:Community Events,Suquamish Museum
ATTACH;FMTTYPE=image/jpeg:https://suquamish.nsn.us/wp-content/uploads/2022/10/11-18-22-museum-pop-up.jpg
END:VEVENT
BEGIN:VEVENT
DTSTART;TZID=America/Vancouver:20221118T100000
DTEND;TZID=America/Vancouver:20221120T170000
DTSTAMP:20260421T072840
CREATED:20221118T005534Z
LAST-MODIFIED:20221118T010017Z
UID:23971-1668765600-1668963600@suquamish.nsn.us
SUMMARY:Suquamish Museum Leota Anthony Museum Store Black Friday Sale
DESCRIPTION:Nov.18-20\,2022 \nSuquamish Tribal Households enjoy 20% off \nMuseum Friends enjoy 15% \n 
URL:https://suquamish.nsn.us/event/suquamish-museum-leota-anthony-museum-store-black-friday-sale/
LOCATION:Suquamish Museum\, 6861 South Street\, Suquamish \, WA\, 98392\, United States
ATTACH;FMTTYPE=image/jpeg:https://suquamish.nsn.us/wp-content/uploads/2022/11/museum-black-friday-scaled-1.jpg
END:VEVENT
BEGIN:VEVENT
DTSTART;TZID=America/Vancouver:20221118T100000
DTEND;TZID=America/Vancouver:20221120T170000
DTSTAMP:20260421T072840
CREATED:20221028T003853Z
LAST-MODIFIED:20221028T003853Z
UID:23645-1668765600-1668963600@suquamish.nsn.us
SUMMARY:Black Friday at Suquamish Museum Gift Shop
DESCRIPTION:
URL:https://suquamish.nsn.us/event/black-friday-at-suquamish-museum-gift-shop/
LOCATION:Suquamish Museum\, 6861 NE South St\, Suquamish\, WA\, 98392\, United States
CATEGORIES:Community Events,Suquamish Museum
ATTACH;FMTTYPE=image/jpeg:https://suquamish.nsn.us/wp-content/uploads/2022/10/museum-black-friday-scaled.jpg
END:VEVENT
BEGIN:VEVENT
DTSTART;TZID=America/Vancouver:20221116T160000
DTEND;TZID=America/Vancouver:20221116T190000
DTSTAMP:20260421T072840
CREATED:20221020T233311Z
LAST-MODIFIED:20221020T233311Z
UID:23493-1668614400-1668625200@suquamish.nsn.us
SUMMARY:Wool & Cedar Weaving with Denita Holmes
DESCRIPTION:Suquamish Tribal Member Households \nWool Headbands on Nov. 16\,2022 Wed. 4-7pm \nCedar Ornaments on Nov. 19\,2022 Sat. 10am-4pm \nPlease sign up if you can make both classes (360) 394-8576 or email fandfcenter@suquamish.nsn.us
URL:https://suquamish.nsn.us/event/wool-cedar-weaving-with-denita-holmes/
LOCATION:Family & Friends Youth Center\, 5243 Totten Road\, Poulsbo\, 98370
ATTACH;FMTTYPE=image/png:https://suquamish.nsn.us/wp-content/uploads/2022/10/11-19-22-cedar-weaving.png
END:VEVENT
BEGIN:VEVENT
DTSTART;TZID=America/Vancouver:20221111T000000
DTEND;TZID=America/Vancouver:20221111T233000
DTSTAMP:20260421T072840
CREATED:20221021T001620Z
LAST-MODIFIED:20221021T001630Z
UID:23505-1668124800-1668209400@suquamish.nsn.us
SUMMARY:Veterans Day
DESCRIPTION:Veterans Day Nov. 11\,2022 Friday \nTribal Offices Closed
URL:https://suquamish.nsn.us/event/veterans-day/
LOCATION:WA
END:VEVENT
BEGIN:VEVENT
DTSTART;TZID=America/Vancouver:20221106T000000
DTEND;TZID=America/Vancouver:20221106T233000
DTSTAMP:20260421T072840
CREATED:20221021T001121Z
LAST-MODIFIED:20221021T001128Z
UID:23501-1667692800-1667777400@suquamish.nsn.us
SUMMARY:Daylight Saving Time
DESCRIPTION:Daylight Saving Time \nNov.6\,2022 \nFall back one hour
URL:https://suquamish.nsn.us/event/daylight-saving-time/
LOCATION:WA
END:VEVENT
BEGIN:VEVENT
DTSTART;TZID=America/Vancouver:20221105T100000
DTEND;TZID=America/Vancouver:20221105T113000
DTSTAMP:20260421T072840
CREATED:20221020T211626Z
LAST-MODIFIED:20221020T215502Z
UID:23434-1667642400-1667647800@suquamish.nsn.us
SUMMARY:Weaving Class Reindeer Ornament
DESCRIPTION:  \n  \n 
URL:https://suquamish.nsn.us/event/weaving-class-reindeer-ornament/
LOCATION:Suquamish Museum\, 6861 South Street\, Suquamish \, WA\, 98392\, United States
ATTACH;FMTTYPE=image/jpeg:https://suquamish.nsn.us/wp-content/uploads/2022/10/11-05-22-Weaving-Class-Reindeer-Ornament-Nov-2022-scaled.jpg
END:VEVENT
BEGIN:VEVENT
DTSTART;TZID=America/Vancouver:20221104T180000
DTEND;TZID=America/Vancouver:20221106T210000
DTSTAMP:20260421T072840
CREATED:20221026T190939Z
LAST-MODIFIED:20221129T173655Z
UID:23594-1667584800-1667768400@suquamish.nsn.us
SUMMARY:Suquamish Youth Council High School Basketball Tournament
DESCRIPTION:Nov. 4-6\,  2022 \nSuquamish Fitness Center \nFor more information: Craig Miller (360)394-8574 or craigmiller@suquamish.nsn.us \nMagdalena Turrieta (360) 509-9512 or mturrieta@suquamish.nsn.us
URL:https://suquamish.nsn.us/event/suquamish-youth-council-high-school-basketball-tournament/
LOCATION:Suquamish Fitness Center\, 5240 Totten Road\, Poulsbo
ATTACH;FMTTYPE=image/jpeg:https://suquamish.nsn.us/wp-content/uploads/2022/10/B-Ball.jpg
END:VEVENT
BEGIN:VEVENT
DTSTART;TZID=America/Vancouver:20221028T173000
DTEND;TZID=America/Vancouver:20221028T193000
DTSTAMP:20260421T072840
CREATED:20221020T231145Z
LAST-MODIFIED:20221020T231345Z
UID:23484-1666978200-1666985400@suquamish.nsn.us
SUMMARY:Suquamish Halloween Party
DESCRIPTION:Suquamish Tribal Households & Suquamish Youth Program \nOct. 28\,2022 @ 5:30-7:30pm \nYouth/Fitness Center Parking Lot \nQuestions contact (360) 394-8576 or fandfcenter@suquamish.nsn.us
URL:https://suquamish.nsn.us/event/suquamish-halloween-party/
LOCATION:WA
ATTACH;FMTTYPE=image/png:https://suquamish.nsn.us/wp-content/uploads/2022/10/10-28-22_Halloween-flyer.png
END:VEVENT
BEGIN:VEVENT
DTSTART;TZID=America/Vancouver:20221026T153000
DTEND;TZID=America/Vancouver:20221026T163000
DTSTAMP:20260421T072840
CREATED:20221021T010007Z
LAST-MODIFIED:20221021T010014Z
UID:23516-1666798200-1666801800@suquamish.nsn.us
SUMMARY:Academic Study Group
DESCRIPTION:For students K-5 Grade levels \nWeekly Wednesday starting Oct.19\,2022 \n3:15-4:30pm @ Family & Friends center \nContact: Chis Miller (360) 900-6330 or email chrismiller@suquamish.nsn.us \nNapua Korsak (360) 710-0631 or email Nkorsak@suquamish.nsn.us \n 
URL:https://suquamish.nsn.us/event/academic-study-group/
LOCATION:Family & Friends Youth Center\, 5243 Totten Road\, Poulsbo\, 98370
END:VEVENT
BEGIN:VEVENT
DTSTART;TZID=America/Vancouver:20221021T080000
DTEND;TZID=America/Vancouver:20221021T170000
DTSTAMP:20260421T072840
CREATED:20221021T004227Z
LAST-MODIFIED:20221021T004234Z
UID:23512-1666339200-1666371600@suquamish.nsn.us
SUMMARY:Marion Forsman Boushie Early Learning Center Closures
DESCRIPTION:Oct.21\,2022 ELC Closed \nIn-Services Day
URL:https://suquamish.nsn.us/event/marion-forsman-boushie-early-learning-center-closures/
LOCATION:WA
END:VEVENT
BEGIN:VEVENT
DTSTART;VALUE=DATE:20221016
DTEND;VALUE=DATE:20221017
DTSTAMP:20260421T072840
CREATED:20220926T204616Z
LAST-MODIFIED:20220926T204727Z
UID:23127-1665878400-1665964799@suquamish.nsn.us
SUMMARY:Suquamish Basketball Tournament (Day 3)
DESCRIPTION:
URL:https://suquamish.nsn.us/event/suquamish-basketball-tournament-day-3/
LOCATION:Suquamish Fitness Center\, 5240 Totten Road\, Poulsbo
CATEGORIES:Community Events,Sports & Recreation
ATTACH;FMTTYPE=image/jpeg:https://suquamish.nsn.us/wp-content/uploads/2022/09/10-14-22-BasketballTourney.jpg
END:VEVENT
BEGIN:VEVENT
DTSTART;VALUE=DATE:20221015
DTEND;VALUE=DATE:20221016
DTSTAMP:20260421T072840
CREATED:20220926T204439Z
LAST-MODIFIED:20220926T204831Z
UID:23124-1665792000-1665878399@suquamish.nsn.us
SUMMARY:Suquamish Basketball Tournament (Day 2)
DESCRIPTION:
URL:https://suquamish.nsn.us/event/suquamish-basketball-tournament-day-2/
LOCATION:Suquamish Fitness Center\, 5240 Totten Road\, Poulsbo
CATEGORIES:Community Events,Sports & Recreation
ATTACH;FMTTYPE=image/jpeg:https://suquamish.nsn.us/wp-content/uploads/2022/09/10-14-22-BasketballTourney.jpg
END:VEVENT
BEGIN:VEVENT
DTSTART;TZID=America/Vancouver:20221014T150000
DTEND;TZID=America/Vancouver:20221014T170000
DTSTAMP:20260421T072840
CREATED:20220926T205239Z
LAST-MODIFIED:20220926T205239Z
UID:23134-1665759600-1665766800@suquamish.nsn.us
SUMMARY:Mat House Honoring
DESCRIPTION:
URL:https://suquamish.nsn.us/event/mat-house-honoring/
LOCATION:Suquamish Museum\, 6861 South Street\, Suquamish \, WA\, 98392\, United States
CATEGORIES:Community Events,Suquamish Museum
ATTACH;FMTTYPE=image/jpeg:https://suquamish.nsn.us/wp-content/uploads/2022/09/10-14-22-matt-house-honoring_33D66B0C-AC0F-4C34-A390-875A7DEC0A06.jpg
END:VEVENT
BEGIN:VEVENT
DTSTART;VALUE=DATE:20221014
DTEND;VALUE=DATE:20221015
DTSTAMP:20260421T072840
CREATED:20220926T204224Z
LAST-MODIFIED:20220926T204958Z
UID:23120-1665705600-1665791999@suquamish.nsn.us
SUMMARY:Suquamish Basketball Tournament
DESCRIPTION:
URL:https://suquamish.nsn.us/event/suquamish-basketball-tournament/
LOCATION:Suquamish Fitness Center\, 5240 Totten Road\, Poulsbo
CATEGORIES:Community Events,Sports & Recreation
ATTACH;FMTTYPE=image/jpeg:https://suquamish.nsn.us/wp-content/uploads/2022/09/10-14-22-BasketballTourney.jpg
END:VEVENT
BEGIN:VEVENT
DTSTART;TZID=America/Vancouver:20221011T170000
DTEND;TZID=America/Vancouver:20221011T200000
DTSTAMP:20260421T072840
CREATED:20221011T211519Z
LAST-MODIFIED:20221011T213020Z
UID:23264-1665507600-1665518400@suquamish.nsn.us
SUMMARY:Disaster Readiness Training
DESCRIPTION:10-11-22 Disaster training
URL:https://suquamish.nsn.us/event/disaster-readiness-training/
LOCATION:House of Awakened Culture\, 7235 NE Parkway\, Suquamish\, WA\, 98392\, United States
CATEGORIES:Emergency Management
ATTACH;FMTTYPE=image/jpeg:https://suquamish.nsn.us/wp-content/uploads/2022/09/1.jpg
END:VEVENT
BEGIN:VEVENT
DTSTART;TZID=America/Vancouver:20221007T170000
DTEND;TZID=America/Vancouver:20221007T200000
DTSTAMP:20260421T072840
CREATED:20220913T204751Z
LAST-MODIFIED:20220913T212013Z
UID:22431-1665162000-1665172800@suquamish.nsn.us
SUMMARY:Disaster Readiness Training\, Indianola
DESCRIPTION:  \n \nDisaster Readiness Training \nLearn life saving skills to help your family and community during disasters. \nTraining open to Tribal Members\, Tribal Households\, Suquamish and Indianola residents. \nJoin Suquamish Tribe’s Office of Emergency Management to learn what skills you need to know during a disaster. Each household gets a free box of shelf stable emergency food\, an emergency supply kit\, and training in personal preparedness\, fire safety\, and disaster first aid. Find out what it takes to get your neighborhood organized to be disaster ready \nTraining schedule: \nIndianola Clubhouse\, Oct. 7\, 5 – 8PM \nSuquamish House of Awakened Culture\, Oct. 11\, 5 – 8 PM \n\nRSVP TODAY
URL:https://suquamish.nsn.us/event/disaster-readiness-training-indianola/
LOCATION:WA
CATEGORIES:Community Events,Emergency Management
ATTACH;FMTTYPE=image/jpeg:https://suquamish.nsn.us/wp-content/uploads/2022/09/1.jpg
END:VEVENT
BEGIN:VEVENT
DTSTART;TZID=America/Vancouver:20220930T170000
DTEND;TZID=America/Vancouver:20220930T190000
DTSTAMP:20260421T072840
CREATED:20220926T202528Z
LAST-MODIFIED:20220926T202759Z
UID:23116-1664557200-1664564400@suquamish.nsn.us
SUMMARY:Orange T-shirt Day
DESCRIPTION:Open to Suquamish Tribal Members and their families\, and children enrolled in Suquamish Youth Programs. \nSuquamish Song & Dance is hosting an Orange T-shirt Day event in the Fitness Center Gym\, 5-7pm with free t-shirts and a small meal. \nOrange T-shirt Day calls attention to the legacy of Native boarding schools in the U.S. and Canada. \n 
URL:https://suquamish.nsn.us/event/orange-t-shirt-day/
LOCATION:Suquamish Fitness Center\, 5240 Totten Road\, Poulsbo
CATEGORIES:Community Events,Family & Friends Center
ATTACH;FMTTYPE=image/png:https://suquamish.nsn.us/wp-content/uploads/2022/09/9-30-22-song-and-dance.png
END:VEVENT
END:VCALENDAR