BEGIN:VCALENDAR
VERSION:2.0
PRODID:-//The Suquamish Tribe - ECPv6.15.20//NONSGML v1.0//EN
CALSCALE:GREGORIAN
METHOD:PUBLISH
X-WR-CALNAME:The Suquamish Tribe
X-ORIGINAL-URL:https://suquamish.nsn.us
X-WR-CALDESC:Events for The Suquamish Tribe
REFRESH-INTERVAL;VALUE=DURATION:PT1H
X-Robots-Tag:noindex
X-PUBLISHED-TTL:PT1H
BEGIN:VTIMEZONE
TZID:America/Vancouver
BEGIN:DAYLIGHT
TZOFFSETFROM:-0800
TZOFFSETTO:-0700
TZNAME:PDT
DTSTART:20220313T100000
END:DAYLIGHT
BEGIN:STANDARD
TZOFFSETFROM:-0700
TZOFFSETTO:-0800
TZNAME:PST
DTSTART:20221106T090000
END:STANDARD
BEGIN:DAYLIGHT
TZOFFSETFROM:-0800
TZOFFSETTO:-0700
TZNAME:PDT
DTSTART:20230312T100000
END:DAYLIGHT
BEGIN:STANDARD
TZOFFSETFROM:-0700
TZOFFSETTO:-0800
TZNAME:PST
DTSTART:20231105T090000
END:STANDARD
BEGIN:DAYLIGHT
TZOFFSETFROM:-0800
TZOFFSETTO:-0700
TZNAME:PDT
DTSTART:20240310T100000
END:DAYLIGHT
BEGIN:STANDARD
TZOFFSETFROM:-0700
TZOFFSETTO:-0800
TZNAME:PST
DTSTART:20241103T090000
END:STANDARD
BEGIN:DAYLIGHT
TZOFFSETFROM:-0800
TZOFFSETTO:-0700
TZNAME:PDT
DTSTART:20250309T100000
END:DAYLIGHT
BEGIN:STANDARD
TZOFFSETFROM:-0700
TZOFFSETTO:-0800
TZNAME:PST
DTSTART:20251102T090000
END:STANDARD
END:VTIMEZONE
BEGIN:VEVENT
DTSTART;TZID=America/Vancouver:20240203T100000
DTEND;TZID=America/Vancouver:20240203T163000
DTSTAMP:20260421T065715
CREATED:20240118T213923Z
LAST-MODIFIED:20240118T213923Z
UID:30579-1706954400-1706977800@suquamish.nsn.us
SUMMARY:Suquamish Museum Weaving Cedar Hearts
DESCRIPTION:Led by Suquamish Tribal Elder Kippie Joe \nFeb.3\, 2024 10am-4pm \n 
URL:https://suquamish.nsn.us/event/suquamish-museum-weaving-cedar-hearts/
LOCATION:Suquamish Museum\, 6861 South Street\, Suquamish \, WA\, 98392\, United States
ATTACH;FMTTYPE=image/jpeg:https://suquamish.nsn.us/wp-content/uploads/2024/01/Cedar-Hearts-2024-2.jpg
END:VEVENT
BEGIN:VEVENT
DTSTART;TZID=America/Vancouver:20240203T100000
DTEND;TZID=America/Vancouver:20240203T150000
DTSTAMP:20260421T065715
CREATED:20240129T193958Z
LAST-MODIFIED:20240129T193958Z
UID:30989-1706954400-1706972400@suquamish.nsn.us
SUMMARY:Suquamish Museum Artist Pop-up
DESCRIPTION:Feb. 3 & 17 \n10am-3pm
URL:https://suquamish.nsn.us/event/suquamish-museum-artist-pop-up/
LOCATION:Suquamish Museum\, 6861 South Street\, Suquamish \, WA\, 98392\, United States
ATTACH;FMTTYPE=image/png:https://suquamish.nsn.us/wp-content/uploads/2024/01/RevisedArtistPopUp2024.png
END:VEVENT
BEGIN:VEVENT
DTSTART;TZID=America/Vancouver:20240124T170000
DTEND;TZID=America/Vancouver:20240124T190000
DTSTAMP:20260421T065715
CREATED:20240102T222904Z
LAST-MODIFIED:20240102T222904Z
UID:30278-1706115600-1706122800@suquamish.nsn.us
SUMMARY:Suquamish Culture Night
DESCRIPTION:Jan. 24\,2024 \n5-7pm
URL:https://suquamish.nsn.us/event/suquamish-culture-night-3/
LOCATION:House of Awakened Culture\, 7235 NE Parkway\, Suquamish\, WA\, 98392\, United States
ATTACH;FMTTYPE=image/jpeg:https://suquamish.nsn.us/wp-content/uploads/2024/01/culturenightsJan24.jpg
END:VEVENT
BEGIN:VEVENT
DTSTART;TZID=America/Vancouver:20240120T103000
DTEND;TZID=America/Vancouver:20240120T160000
DTSTAMP:20260421T065715
CREATED:20240102T223239Z
LAST-MODIFIED:20240102T223239Z
UID:30281-1705746600-1705766400@suquamish.nsn.us
SUMMARY:Suquamish Museum Weaving Class
DESCRIPTION:Weaving Cedar Hoop Earrings \nSat. Jan 20\,2024 @ 10:30am-1pm & 1:30pm-4pm \n 
URL:https://suquamish.nsn.us/event/suquamish-museum-weaving-class/
LOCATION:Suquamish Museum\, 6861 South Street\, Suquamish \, WA\, 98392\, United States
ATTACH;FMTTYPE=image/jpeg:https://suquamish.nsn.us/wp-content/uploads/2024/01/Weaving-Class-Hoop-Earrings-Jan-2024-scaled.jpg
END:VEVENT
BEGIN:VEVENT
DTSTART;TZID=America/Vancouver:20240118T173000
DTEND;TZID=America/Vancouver:20240118T193000
DTSTAMP:20260421T065715
CREATED:20240118T180320Z
LAST-MODIFIED:20240118T180320Z
UID:30564-1705599000-1705606200@suquamish.nsn.us
SUMMARY:Suquamish Treaty Talk & Viewing of Kings of Gorst Creek
DESCRIPTION:5:30-7:30pm \nAt House of Awakened Culture
URL:https://suquamish.nsn.us/event/suquamish-treaty-talk-viewing-of-kings-of-gorst-creek/
LOCATION:House of Awakened Culture\, 7235 NE Parkway\, Suquamish\, WA\, 98392\, United States
ATTACH;FMTTYPE=image/png:https://suquamish.nsn.us/wp-content/uploads/2024/01/1-18-24-Treaty-Talk.png
END:VEVENT
BEGIN:VEVENT
DTSTART;TZID=America/Vancouver:20240117T150000
DTEND;TZID=America/Vancouver:20240117T160000
DTSTAMP:20260421T065715
CREATED:20240102T221437Z
LAST-MODIFIED:20240102T221437Z
UID:30263-1705503600-1705507200@suquamish.nsn.us
SUMMARY:Suquamish Museum Book Reading
DESCRIPTION:Wed. Jan 17\,2024. 3-4pm
URL:https://suquamish.nsn.us/event/suquamish-museum-book-reading/
LOCATION:Suquamish Museum\, 6861 South Street\, Suquamish \, WA\, 98392\, United States
ATTACH;FMTTYPE=image/jpeg:https://suquamish.nsn.us/wp-content/uploads/2024/01/1.jpg
END:VEVENT
BEGIN:VEVENT
DTSTART;TZID=America/Vancouver:20240117T120000
DTEND;TZID=America/Vancouver:20240117T130000
DTSTAMP:20260421T065715
CREATED:20231204T215812Z
LAST-MODIFIED:20231214T152458Z
UID:29245-1705492800-1705496400@suquamish.nsn.us
SUMMARY:How to Prepare for a Power Outage - Lunch & Learn Series
DESCRIPTION:Join us for our next Lunch & Learn event – How to Prepare for a Power Outage. Bring your lunch and we will update you on the latest on power outage preparedness and safety. Raffles and games for those who can join us in person. Will be live broadcasted on TEAMS. Open to the public.
URL:https://suquamish.nsn.us/event/lunch-learn-series-power-outage/
LOCATION:Suquamish Tribal Council Chambers\, 18490 Suquamish Way NE\, Suquamish\, WA\, 98392\, United States
CATEGORIES:Emergency Management
ATTACH;FMTTYPE=image/jpeg:https://suquamish.nsn.us/wp-content/uploads/2023/12/Lunch-Learn-Series-January.jpg
END:VEVENT
BEGIN:VEVENT
DTSTART;TZID=America/Vancouver:20240114T100000
DTEND;TZID=America/Vancouver:20240114T150000
DTSTAMP:20260421T065715
CREATED:20240102T224944Z
LAST-MODIFIED:20240102T224944Z
UID:30285-1705226400-1705244400@suquamish.nsn.us
SUMMARY:Suquamish Museum- Winter Native Makers Market
DESCRIPTION:Jan.-March every 2nd Sunday of the month \n10am-3pm
URL:https://suquamish.nsn.us/event/suquamish-museum-winter-native-makers-market/
LOCATION:Suquamish Museum\, 6861 South Street\, Suquamish \, WA\, 98392\, United States
ATTACH;FMTTYPE=image/jpeg:https://suquamish.nsn.us/wp-content/uploads/2024/01/RevisedWinter-Native-Makers-Market-2024-2.jpg
END:VEVENT
BEGIN:VEVENT
DTSTART;TZID=America/Vancouver:20240113T080000
DTEND;TZID=America/Vancouver:20240113T170000
DTSTAMP:20260421T065715
CREATED:20240102T222018Z
LAST-MODIFIED:20240102T222018Z
UID:30269-1705132800-1705165200@suquamish.nsn.us
SUMMARY:Suquamish Museum Beading Workshop with Jo Citlali
DESCRIPTION:Sat. Jan 13\,2024 \nTo register contact Jennifer Reynolds (360) -7105 or jreynolds@suquamish.nsn.us
URL:https://suquamish.nsn.us/event/suquamish-museum-beading-workshop-with-jo-citlali/
LOCATION:Suquamish Museum\, 6861 South Street\, Suquamish \, WA\, 98392\, United States
ATTACH;FMTTYPE=image/png:https://suquamish.nsn.us/wp-content/uploads/2024/01/Beading-Workshop-1.13.24-1.png
END:VEVENT
BEGIN:VEVENT
DTSTART;TZID=America/Vancouver:20240110T170000
DTEND;TZID=America/Vancouver:20240110T190000
DTSTAMP:20260421T065715
CREATED:20240102T222733Z
LAST-MODIFIED:20240102T222733Z
UID:30275-1704906000-1704913200@suquamish.nsn.us
SUMMARY:Suquamish Culture Night
DESCRIPTION:Jan.10 @ 5-7pm \nHouse of Awakened Culture
URL:https://suquamish.nsn.us/event/suquamish-culture-night-2/
LOCATION:House of Awakened Culture\, 7235 NE Parkway\, Suquamish\, WA\, 98392\, United States
ATTACH;FMTTYPE=image/jpeg:https://suquamish.nsn.us/wp-content/uploads/2024/01/culturenightsJan24.jpg
END:VEVENT
BEGIN:VEVENT
DTSTART;TZID=America/Vancouver:20240108T090000
DTEND;TZID=America/Vancouver:20240127T160000
DTSTAMP:20260421T065715
CREATED:20240125T165542Z
LAST-MODIFIED:20240125T165652Z
UID:30800-1704704400-1706371200@suquamish.nsn.us
SUMMARY:Glass Float - Scavenger Hunt!
DESCRIPTION:
URL:https://suquamish.nsn.us/event/glass-float-scavenger-hunt/
LOCATION:Suquamish Museum\, 6861 South Street\, Suquamish \, WA\, 98392\, United States
CATEGORIES:Suquamish Museum
ATTACH;FMTTYPE=image/jpeg:https://suquamish.nsn.us/wp-content/uploads/2024/01/1-8to27-24RevisedWinter-Glass-Float-Find-1.24-1.jpg
END:VEVENT
BEGIN:VEVENT
DTSTART;TZID=America/Vancouver:20231225T080000
DTEND;TZID=America/Vancouver:20231231T170000
DTSTAMP:20260421T065715
CREATED:20231213T001418Z
LAST-MODIFIED:20231214T152051Z
UID:29642-1703491200-1704042000@suquamish.nsn.us
SUMMARY:Suquamish Tribal Government CLOSED
DESCRIPTION:
URL:https://suquamish.nsn.us/event/suquamish-tribal-government-closed/
LOCATION:WA
ATTACH;FMTTYPE=image/jpeg:https://suquamish.nsn.us/wp-content/uploads/2023/12/qtq80-ciTuHU.jpeg
END:VEVENT
BEGIN:VEVENT
DTSTART;TZID=America/Vancouver:20231218T120000
DTEND;TZID=America/Vancouver:20231218T130000
DTSTAMP:20260421T065715
CREATED:20231117T205355Z
LAST-MODIFIED:20231201T160508Z
UID:28858-1702900800-1702904400@suquamish.nsn.us
SUMMARY:Are You 2 Weeks Ready? Lunch & Learn
DESCRIPTION:Bring your lunch & learn how to prepare yourself and your family for an emergency. Games & raffle prizes! Must be present to win. Open to the public. Class will be broadcast on TEAMS https://bit.ly/SuqReady
URL:https://suquamish.nsn.us/event/are-you-2-weeks-ready-lunch-learn/
LOCATION:Suquamish Tribal Council Chambers\, 18490 Suquamish Way NE\, Suquamish\, WA\, 98392\, United States
CATEGORIES:Emergency Management
ATTACH;FMTTYPE=image/png:https://suquamish.nsn.us/wp-content/uploads/2023/11/Are-you-2-Weeks-ready-Flyer-1.png
END:VEVENT
BEGIN:VEVENT
DTSTART;TZID=America/Vancouver:20231209T090000
DTEND;TZID=America/Vancouver:20231210T160000
DTSTAMP:20260421T065715
CREATED:20231107T220707Z
LAST-MODIFIED:20231107T220707Z
UID:28794-1702112400-1702224000@suquamish.nsn.us
SUMMARY:Suquamish Holiday Bazzaar
DESCRIPTION:Dec. 9 & 10\,2023 \n9am-4pm @ House of Awakened Culture
URL:https://suquamish.nsn.us/event/suquamish-holiday-bazzaar/
LOCATION:House of Awakened Culture\, 7235 NE Parkway\, Suquamish\, WA\, 98392\, United States
ATTACH;FMTTYPE=image/jpeg:https://suquamish.nsn.us/wp-content/uploads/2023/11/bazaar.jpg
END:VEVENT
BEGIN:VEVENT
DTSTART;TZID=America/Vancouver:20231124T080000
DTEND;TZID=America/Vancouver:20231124T163000
DTSTAMP:20260421T065715
CREATED:20231023T201929Z
LAST-MODIFIED:20231023T202107Z
UID:28230-1700812800-1700843400@suquamish.nsn.us
SUMMARY:Native American Heritage Day-Suquamish Tribal Offices CLOSED
DESCRIPTION:Nov.24 Native American Heritage Day \nSuquamish Tribal Offices CLOSED
URL:https://suquamish.nsn.us/event/native-american-heritage-day/
LOCATION:WA
END:VEVENT
BEGIN:VEVENT
DTSTART;TZID=America/Vancouver:20231123T080000
DTEND;TZID=America/Vancouver:20231123T163000
DTSTAMP:20260421T065715
CREATED:20231023T201721Z
LAST-MODIFIED:20231023T202007Z
UID:28226-1700726400-1700757000@suquamish.nsn.us
SUMMARY:Thanksgiving Day - Suquamish Tribal Offices CLOSED
DESCRIPTION:Suquamish Tribal Offices CLOSED Nov.23 & 24
URL:https://suquamish.nsn.us/event/thanksgiving-day-suquamish-tribal-offices-closed/
LOCATION:WA
END:VEVENT
BEGIN:VEVENT
DTSTART;TZID=America/Vancouver:20231118T090000
DTEND;TZID=America/Vancouver:20231119T160000
DTSTAMP:20260421T065715
CREATED:20231107T220454Z
LAST-MODIFIED:20231107T220454Z
UID:28791-1700298000-1700409600@suquamish.nsn.us
SUMMARY:Suquamish Holiday Bazaar
DESCRIPTION:Nov.18 & 19. 9am-4pm \nHouse of Awakened Culture
URL:https://suquamish.nsn.us/event/suquamish-holiday-bazaar-4/
LOCATION:WA
ATTACH;FMTTYPE=image/jpeg:https://suquamish.nsn.us/wp-content/uploads/2023/11/bazaar.jpg
END:VEVENT
BEGIN:VEVENT
DTSTART;TZID=America/Vancouver:20231115T160000
DTEND;TZID=America/Vancouver:20231115T183000
DTSTAMP:20260421T065715
CREATED:20231012T181447Z
LAST-MODIFIED:20231012T181502Z
UID:28128-1700064000-1700073000@suquamish.nsn.us
SUMMARY:Movie Showing- Screenagers: Under the Influence
DESCRIPTION:Kitsap Public Health District will be hosting a showing of the film “Screenagers: Under the Influence”. This film delves into how the tech revolution has reshaped adolescence and its effects on substance use. \nIntended for: \n\nParents/guardians of teenagers\nTeachers\, coaches\, counselors\, and those who work in schools\nYouth aged 12-19\nAnyone who wants to support youth in Bremerton and South Kitsap\n\nTickets are free\, registration is encouraged. Register by visiting https://www.eventbrite.com/e/screenagers-under-the-influence-tickets-731429163317.
URL:https://suquamish.nsn.us/event/movie-showing-screenagers-under-the-influence/
LOCATION:Roxy Theatre\, 270 4th St\, Bremerton\, WA\, 98337\, United States
CATEGORIES:Health & Wellness
ATTACH;FMTTYPE=image/jpeg:https://suquamish.nsn.us/wp-content/uploads/2023/10/Screenagers-flyer-10.12.23.jpg
END:VEVENT
BEGIN:VEVENT
DTSTART;VALUE=DATE:20231113
DTEND;VALUE=DATE:20231116
DTSTAMP:20260421T065715
CREATED:20231107T214620Z
LAST-MODIFIED:20231107T214620Z
UID:28783-1699833600-1700092799@suquamish.nsn.us
SUMMARY:Native Wellness Institute
DESCRIPTION:Nov.13-15\,2023.  All day\, Free event \nKiana Lodge
URL:https://suquamish.nsn.us/event/native-wellness-institute/
LOCATION:Kiana Lodge\, 14976 Sandy Hook Rd NE\, Poulsbo\, WA\, 98370\, United States
ATTACH;FMTTYPE=image/png:https://suquamish.nsn.us/wp-content/uploads/2023/11/11-13-23-Native-Wellness-Flier.png
END:VEVENT
BEGIN:VEVENT
DTSTART;TZID=America/Vancouver:20231111T080000
DTEND;TZID=America/Vancouver:20231111T170000
DTSTAMP:20260421T065715
CREATED:20231107T214825Z
LAST-MODIFIED:20231107T214825Z
UID:28786-1699689600-1699722000@suquamish.nsn.us
SUMMARY:Veterans Day Honoring
DESCRIPTION:Nov.11\,2023 \n1200 hours @ Clearwater Casino
URL:https://suquamish.nsn.us/event/veterans-day-honoring/
LOCATION:WA
ATTACH;FMTTYPE=image/jpeg:https://suquamish.nsn.us/wp-content/uploads/2023/11/11-10-23-Veterans-Day-honoring-V2.jpg
END:VEVENT
BEGIN:VEVENT
DTSTART;TZID=America/Vancouver:20231110T080000
DTEND;TZID=America/Vancouver:20231110T170000
DTSTAMP:20260421T065715
CREATED:20230831T233613Z
LAST-MODIFIED:20230831T233613Z
UID:27358-1699603200-1699635600@suquamish.nsn.us
SUMMARY:No School- Veterans Day 
DESCRIPTION:No School- Veterans Day
URL:https://suquamish.nsn.us/event/no-school-veterans-day/
LOCATION:WA
ATTACH;FMTTYPE=image/jpeg:https://suquamish.nsn.us/wp-content/uploads/2023/08/2023-2024-NKSDistrictAcademicCalendar-scaled.jpg
END:VEVENT
BEGIN:VEVENT
DTSTART;TZID=America/Vancouver:20231110T080000
DTEND;TZID=America/Vancouver:20231110T163000
DTSTAMP:20260421T065715
CREATED:20231023T201440Z
LAST-MODIFIED:20231023T201451Z
UID:28222-1699603200-1699633800@suquamish.nsn.us
SUMMARY:Veteran's Day
DESCRIPTION:Suquamish Tribal Offices are CLOSED
URL:https://suquamish.nsn.us/event/veterans-day-2/
LOCATION:WA
END:VEVENT
BEGIN:VEVENT
DTSTART;TZID=America/Vancouver:20231104T103000
DTEND;TZID=America/Vancouver:20231104T120000
DTSTAMP:20260421T065715
CREATED:20230214T000515Z
LAST-MODIFIED:20231023T203450Z
UID:24686-1699093800-1699099200@suquamish.nsn.us
SUMMARY:Weaving Class (Reindeer Ornament)
DESCRIPTION:10:30am-12pm @ Suquamish Museum \nClass size 20 students max \nCost $ 60 per person \nRegister for class with Jennifer Reynolds at jreynolds@suquamish.nsn.us  or (360) 394-7115
URL:https://suquamish.nsn.us/event/weaving-class-reindeer-ornament-2/
LOCATION:WA
ATTACH;FMTTYPE=image/jpeg:https://suquamish.nsn.us/wp-content/uploads/2023/10/new.jpg
END:VEVENT
BEGIN:VEVENT
DTSTART;TZID=America/Vancouver:20231103T173000
DTEND;TZID=America/Vancouver:20231103T183000
DTSTAMP:20260421T065715
CREATED:20231019T152822Z
LAST-MODIFIED:20231020T150013Z
UID:28175-1699032600-1699036200@suquamish.nsn.us
SUMMARY:Are You 2 Weeks Ready? Emergency Preparedness Class
DESCRIPTION:  \n \nLearn how to prepare yourself and your family for an emergency. This one hour class will give you the tools you need to create an emergency plan\, build an emergency kit\, and make an emergency communication plan. Join us for humor and hands on activities while you learn. All ages welcome.
URL:https://suquamish.nsn.us/event/are-you-2-weeks-ready-emergency-preparedness-class/
LOCATION:Indianola Clubhouse\, 20446 Indianola Rd. NE\, Indianola\, WA\, 98342\, United States
CATEGORIES:Emergency Management
ATTACH;FMTTYPE=image/png:https://suquamish.nsn.us/wp-content/uploads/2023/10/Screenshot-2023-10-05-085203.png
END:VEVENT
BEGIN:VEVENT
DTSTART;TZID=America/Vancouver:20231030T170000
DTEND;TZID=America/Vancouver:20231030T190000
DTSTAMP:20260421T065715
CREATED:20231023T195122Z
LAST-MODIFIED:20231023T195122Z
UID:28218-1698685200-1698692400@suquamish.nsn.us
SUMMARY:Suquamish Halloween Party
DESCRIPTION:For Suquamish Tribal Households & Suquamish Program Youth \nMonday Oct\,30.2023. Time: 5-7pm \nAt Youth/Fitness Center Complex \n 
URL:https://suquamish.nsn.us/event/suquamish-halloween-party-2/
LOCATION:Family & Friends Youth Center\, 5243 Totten Road\, Poulsbo\, 98370
ATTACH;FMTTYPE=image/jpeg:https://suquamish.nsn.us/wp-content/uploads/2023/10/10-30-23-Halloween-Party.jpeg
END:VEVENT
BEGIN:VEVENT
DTSTART;TZID=America/Vancouver:20231023T173000
DTEND;TZID=America/Vancouver:20231023T190000
DTSTAMP:20260421T065715
CREATED:20230929T214949Z
LAST-MODIFIED:20230929T214949Z
UID:27951-1698082200-1698087600@suquamish.nsn.us
SUMMARY:Riding the Wave: A group for stress & anger awareness
DESCRIPTION:Suquamish Wellness is now taking sign ups for Riding the Wave: A group for stress & anger awareness. \nThe group will be facilitated by Brian G. Burwell\, SUDP\, LICSW & Olivia Ponce\, LCSWA\, CADC-II\, NCAC-II. \nWhen:          October 23 – December 18\, 2023\nDuration:     9 Sessions\nTime:            Mondays 5:30-7:00pm\nLocation:     Wellness \nThe group offers a confidential\, safe\, and supportive place to process your feelings. Please consider joining us if you want to be more effective in managing strong emotions or feel overwhelmed by stress. There will be presentations about healthy coping strategies\, increasing awareness of our emotions\, and limiting chaos and conflict in your life. \nParticipation is voluntary. To sign up for this group or for more information\, please contact Brian at bburwell@suquamish.nsn.us or call 360-394-8553.
URL:https://suquamish.nsn.us/event/riding-the-wave/
LOCATION:Suquamish Wellness Center\, 18490 Suquamish Way NE\, Suquamish\, WA\, 98392\, United States
CATEGORIES:Health & Wellness,Wellness Center
ATTACH;FMTTYPE=image/jpeg:https://suquamish.nsn.us/wp-content/uploads/2023/09/Riding-the-Wave-e1696023897783.jpg
END:VEVENT
BEGIN:VEVENT
DTSTART;TZID=America/Vancouver:20231005T130000
DTEND;TZID=America/Vancouver:20231005T163000
DTSTAMP:20260421T065715
CREATED:20230929T172811Z
LAST-MODIFIED:20230929T172811Z
UID:27946-1696510800-1696523400@suquamish.nsn.us
SUMMARY:Flu Shot Clinic
DESCRIPTION:Suquamish Community Health Program is hosting a walk-up flu shot clinic Thursday\, October 5\, from 1pm-4:30pm at House of Awakened Culture. \nFree for all: \n\nTribal Members & Households (Adults\, Elders\, & Children 6mo+)\nTribal Government Employees\n\nFor more information\, please contact (360) 394-8468.
URL:https://suquamish.nsn.us/event/flu-shot-clinic/
LOCATION:House of Awakened Culture\, 7235 NE Parkway\, Suquamish\, WA\, 98392\, United States
CATEGORIES:Health & Wellness
ATTACH;FMTTYPE=image/jpeg:https://suquamish.nsn.us/wp-content/uploads/2016/05/Longhouse-Outside.jpg
END:VEVENT
BEGIN:VEVENT
DTSTART;TZID=America/Vancouver:20231004T170000
DTEND;TZID=America/Vancouver:20231004T190000
DTSTAMP:20260421T065715
CREATED:20231004T184200Z
LAST-MODIFIED:20231004T205242Z
UID:28040-1696438800-1696446000@suquamish.nsn.us
SUMMARY:Culture Night
DESCRIPTION:A new series of weekly celebrations of Suquamish Culture featuring song & dance\, traditional foods and language\, crafts\, and other activities that enliven our rich cultural roots.
URL:https://suquamish.nsn.us/event/culture-night-2/
LOCATION:House of Awakened Culture\, 7235 NE Parkway\, Suquamish\, WA\, 98392\, United States
CATEGORIES:Community Events
ATTACH;FMTTYPE=image/jpeg:https://suquamish.nsn.us/wp-content/uploads/2023/10/Cover-2.jpg
END:VEVENT
BEGIN:VEVENT
DTSTART;TZID=America/Vancouver:20230927T120000
DTEND;TZID=America/Vancouver:20230927T130000
DTSTAMP:20260421T065715
CREATED:20230831T232121Z
LAST-MODIFIED:20230831T232121Z
UID:27347-1695816000-1695819600@suquamish.nsn.us
SUMMARY:Lunch & Learn
DESCRIPTION:Monthly get together to discuss health topics \nSept.27 @ 12:15-12:45 pm \nFor more info. contact Katie Ladner \nkladner@suquamish.nsn.us
URL:https://suquamish.nsn.us/event/lunch-learn/
LOCATION:WA
ATTACH;FMTTYPE=image/jpeg:https://suquamish.nsn.us/wp-content/uploads/2023/08/9-27-23-lunchandlearn.jpg
END:VEVENT
BEGIN:VEVENT
DTSTART;TZID=America/Vancouver:20230923T100000
DTEND;TZID=America/Vancouver:20230923T200000
DTSTAMP:20260421T065715
CREATED:20230123T183546Z
LAST-MODIFIED:20230920T202229Z
UID:24493-1695463200-1695499200@suquamish.nsn.us
SUMMARY:Salmon Homecoming Celebration
DESCRIPTION:Pier 62 on the Seattle Waterfront from 10am to 8pm. \nSchedule of events: \n10:00am – 8:00pm Information Booth\n10:00am – 8:00pm Arts and Crafts Vendors\n10:00am Peter Ali\, musician\n11:00am Welcome to Our Salmon Homecoming Celebration\n11:00am JP Falcon Grady\, musician\n11:00am – 7:00pm Salmon Bake\n12:00pm – 1:30pm Canoe Welcoming Ceremony\n1:30pm – 8:00pm Contest Pow Wow Grand Entry \n  \n \n 
URL:https://suquamish.nsn.us/event/salmon-homecoming-celebration-tbd/
LOCATION:Pier 62\, Seattle Waterfront\, Pier 62\, Seattle\, WA\, United States
ATTACH;FMTTYPE=image/jpeg:https://suquamish.nsn.us/wp-content/uploads/2023/01/9-23-23-Salmon-Homecoming.jpg
END:VEVENT
END:VCALENDAR