BEGIN:VCALENDAR
VERSION:2.0
PRODID:-//The Suquamish Tribe - ECPv6.15.20//NONSGML v1.0//EN
CALSCALE:GREGORIAN
METHOD:PUBLISH
X-WR-CALNAME:The Suquamish Tribe
X-ORIGINAL-URL:https://suquamish.nsn.us
X-WR-CALDESC:Events for The Suquamish Tribe
REFRESH-INTERVAL;VALUE=DURATION:PT1H
X-Robots-Tag:noindex
X-PUBLISHED-TTL:PT1H
BEGIN:VTIMEZONE
TZID:America/Vancouver
BEGIN:DAYLIGHT
TZOFFSETFROM:-0800
TZOFFSETTO:-0700
TZNAME:PDT
DTSTART:20220313T100000
END:DAYLIGHT
BEGIN:STANDARD
TZOFFSETFROM:-0700
TZOFFSETTO:-0800
TZNAME:PST
DTSTART:20221106T090000
END:STANDARD
BEGIN:DAYLIGHT
TZOFFSETFROM:-0800
TZOFFSETTO:-0700
TZNAME:PDT
DTSTART:20230312T100000
END:DAYLIGHT
BEGIN:STANDARD
TZOFFSETFROM:-0700
TZOFFSETTO:-0800
TZNAME:PST
DTSTART:20231105T090000
END:STANDARD
BEGIN:DAYLIGHT
TZOFFSETFROM:-0800
TZOFFSETTO:-0700
TZNAME:PDT
DTSTART:20240310T100000
END:DAYLIGHT
BEGIN:STANDARD
TZOFFSETFROM:-0700
TZOFFSETTO:-0800
TZNAME:PST
DTSTART:20241103T090000
END:STANDARD
END:VTIMEZONE
BEGIN:VEVENT
DTSTART;TZID=America/Vancouver:20230617T090000
DTEND;TZID=America/Vancouver:20230617T170000
DTSTAMP:20260421T102828
CREATED:20230609T022629Z
LAST-MODIFIED:20230609T022629Z
UID:26119-1686992400-1687021200@suquamish.nsn.us
SUMMARY:Salmon Run\, Benefiting Veterans
DESCRIPTION:Start: Hi Tide Bar & Grill \n1371 Bay St\,Port Orchard WA. \nRegistration 9-10 \nLast Bike in 2 @ NE Totten Rd. Poulsbo Wa.  (Ballfield behing the school on Suquamish Reservation) \nContact : Professor (253) 303-2161\, Bill Gemmel (360) 536-0007
URL:https://suquamish.nsn.us/event/salmon-run-benefiting-veterans/
LOCATION:Suquamish Fitness Center\, 5240 Totten Road\, Poulsbo
ATTACH;FMTTYPE=image/jpeg:https://suquamish.nsn.us/wp-content/uploads/2023/06/6-17-23-Veterans-Benefit.jpg
END:VEVENT
BEGIN:VEVENT
DTSTART;TZID=America/Vancouver:20230619T080000
DTEND;TZID=America/Vancouver:20230619T170000
DTSTAMP:20260421T102828
CREATED:20230609T174050Z
LAST-MODIFIED:20230609T174050Z
UID:26230-1687161600-1687194000@suquamish.nsn.us
SUMMARY:Juneteenth Holiday
DESCRIPTION:Tribal Offices CLOSED
URL:https://suquamish.nsn.us/event/juneteenth-holiday/
LOCATION:WA
END:VEVENT
BEGIN:VEVENT
DTSTART;TZID=America/Vancouver:20230624T120000
DTEND;TZID=America/Vancouver:20230624T160000
DTSTAMP:20260421T102828
CREATED:20230609T022944Z
LAST-MODIFIED:20230609T022944Z
UID:26123-1687608000-1687622400@suquamish.nsn.us
SUMMARY:End of School BASH
DESCRIPTION:12pm-4pm June 24 \nFitness/F&F Center \n5243 NE Totten Road
URL:https://suquamish.nsn.us/event/end-of-school-bash/
LOCATION:Family & Friends Youth Center\, 5243 Totten Road\, Poulsbo\, 98370
ATTACH;FMTTYPE=image/png:https://suquamish.nsn.us/wp-content/uploads/2023/06/6-24-23-end-of-school-bash-flyer.png
END:VEVENT
BEGIN:VEVENT
DTSTART;TZID=America/Vancouver:20230624T120000
DTEND;TZID=America/Vancouver:20230624T160000
DTSTAMP:20260421T102828
CREATED:20230609T025353Z
LAST-MODIFIED:20230609T025403Z
UID:26136-1687608000-1687622400@suquamish.nsn.us
SUMMARY:Family & Friends Center Summer Calendar
DESCRIPTION:June 24 12-4pm \nEnd of School Bash
URL:https://suquamish.nsn.us/event/family-friends-center-summer-calendar-3/
LOCATION:Family & Friends Youth Center\, 5243 Totten Road\, Poulsbo\, 98370
ATTACH;FMTTYPE=image/png:https://suquamish.nsn.us/wp-content/uploads/2023/06/Summer-FFcalendar.png
END:VEVENT
BEGIN:VEVENT
DTSTART;TZID=America/Vancouver:20230627T170000
DTEND;TZID=America/Vancouver:20230627T200000
DTSTAMP:20260421T102828
CREATED:20230502T201750Z
LAST-MODIFIED:20230502T201750Z
UID:25578-1687885200-1687896000@suquamish.nsn.us
SUMMARY:Suquamish Graduate Honoring
DESCRIPTION:June\,27 @ 5pm \nAt House of Awakened Culture \nMore information: Trish Chargualaf  (360)394-8645 or tchargualaf@suquamish.nsn.us  (High school) \nKali Chargualaf (360)394-1328 or kchargualaf@suquamish.nsn.us (Higher Education)
URL:https://suquamish.nsn.us/event/suquamish-graduate-honoring/
LOCATION:House of Awakened Culture\, 7235 NE Parkway\, Suquamish\, WA\, 98392\, United States
ATTACH;FMTTYPE=application/pdf:https://suquamish.nsn.us/wp-content/uploads/2023/05/6-27-23-Grad-honoring-flier-1.pdf
END:VEVENT
BEGIN:VEVENT
DTSTART;TZID=America/Vancouver:20230629T130000
DTEND;TZID=America/Vancouver:20230629T170000
DTSTAMP:20260421T102828
CREATED:20230609T031345Z
LAST-MODIFIED:20230609T031345Z
UID:26147-1688043600-1688058000@suquamish.nsn.us
SUMMARY:Family & Friends Center Summer Calendar
DESCRIPTION:June 29 @ 1pm \nIce Cream Delivery
URL:https://suquamish.nsn.us/event/family-friends-center-summer-calendar-6/
LOCATION:Family & Friends Youth Center\, 5243 Totten Road\, Poulsbo\, 98370
ATTACH;FMTTYPE=image/png:https://suquamish.nsn.us/wp-content/uploads/2023/06/Summer-FFcalendar.png
END:VEVENT
BEGIN:VEVENT
DTSTART;TZID=America/Vancouver:20230703T080000
DTEND;TZID=America/Vancouver:20230704T170000
DTSTAMP:20260421T102828
CREATED:20230626T194408Z
LAST-MODIFIED:20230626T194412Z
UID:26442-1688371200-1688490000@suquamish.nsn.us
SUMMARY:All Tribal Government Offices CLOSED
DESCRIPTION:
URL:https://suquamish.nsn.us/event/all-tribal-government-offices-closed/
LOCATION:WA
END:VEVENT
BEGIN:VEVENT
DTSTART;TZID=America/Vancouver:20230706T120000
DTEND;TZID=America/Vancouver:20230706T170000
DTSTAMP:20260421T102828
CREATED:20230609T031618Z
LAST-MODIFIED:20230629T203133Z
UID:26150-1688644800-1688662800@suquamish.nsn.us
SUMMARY:Family & Friends Center Summer Calendar-Teen Trip to Stranger Things
DESCRIPTION:July 6 \nTeen Trip to Stranger Things 4pm \nLeave @ 12pm
URL:https://suquamish.nsn.us/event/family-friends-center-summer-calendar-7/
LOCATION:Family & Friends Youth Center\, 5243 Totten Road\, Poulsbo\, 98370
ATTACH;FMTTYPE=image/png:https://suquamish.nsn.us/wp-content/uploads/2023/06/Summer-FFcalendar.png
END:VEVENT
BEGIN:VEVENT
DTSTART;TZID=America/Vancouver:20230707T080000
DTEND;TZID=America/Vancouver:20230707T170000
DTSTAMP:20260421T102828
CREATED:20230609T031807Z
LAST-MODIFIED:20230629T210225Z
UID:26153-1688716800-1688749200@suquamish.nsn.us
SUMMARY:Family & Friends Center Summer Calendar-Beach Day Outing
DESCRIPTION:July 7 & 13 \nBeach Day Outing
URL:https://suquamish.nsn.us/event/family-friends-center-summer-calendar-8/
LOCATION:Family & Friends Youth Center\, 5243 Totten Road\, Poulsbo\, 98370
ATTACH;FMTTYPE=image/png:https://suquamish.nsn.us/wp-content/uploads/2023/06/Summer-FFcalendar.png
END:VEVENT
BEGIN:VEVENT
DTSTART;TZID=America/Vancouver:20230710T080000
DTEND;TZID=America/Vancouver:20230710T170000
DTSTAMP:20260421T102828
CREATED:20230609T032135Z
LAST-MODIFIED:20230629T210257Z
UID:26160-1688976000-1689008400@suquamish.nsn.us
SUMMARY:Family & Friends Center Summer Calendar-Cultural craft day @ Youth Center
DESCRIPTION:July 10 & 17 \nCultural craft day @ Youth Center
URL:https://suquamish.nsn.us/event/family-friends-center-summer-calendar-10/
LOCATION:Family & Friends Youth Center\, 5243 Totten Road\, Poulsbo\, 98370
ATTACH;FMTTYPE=image/png:https://suquamish.nsn.us/wp-content/uploads/2023/06/Summer-FFcalendar.png
END:VEVENT
BEGIN:VEVENT
DTSTART;TZID=America/Vancouver:20230711T080000
DTEND;TZID=America/Vancouver:20230711T170000
DTSTAMP:20260421T102828
CREATED:20230609T032653Z
LAST-MODIFIED:20230629T210332Z
UID:26167-1689062400-1689094800@suquamish.nsn.us
SUMMARY:Family & Friends Center Summer Calendar-Park Day Outing
DESCRIPTION:July 11 & 18 \nPark Day Outing
URL:https://suquamish.nsn.us/event/family-friends-center-summer-calendar-12/
LOCATION:Family & Friends Youth Center\, 5243 Totten Road\, Poulsbo\, 98370
ATTACH;FMTTYPE=image/png:https://suquamish.nsn.us/wp-content/uploads/2023/06/Summer-FFcalendar.png
END:VEVENT
BEGIN:VEVENT
DTSTART;TZID=America/Vancouver:20230712T080000
DTEND;TZID=America/Vancouver:20230712T170000
DTSTAMP:20260421T102828
CREATED:20230609T032952Z
LAST-MODIFIED:20230629T210401Z
UID:26173-1689148800-1689181200@suquamish.nsn.us
SUMMARY:Family & Friends Center Summer Calendar-Whirly Ball outing
DESCRIPTION:July 12 \nWhirly Ball outing
URL:https://suquamish.nsn.us/event/family-friends-center-summer-calendar-14/
LOCATION:Family & Friends Youth Center\, 5243 Totten Road\, Poulsbo\, 98370
ATTACH;FMTTYPE=image/png:https://suquamish.nsn.us/wp-content/uploads/2023/06/Summer-FFcalendar.png
END:VEVENT
BEGIN:VEVENT
DTSTART;TZID=America/Vancouver:20230713T080000
DTEND;TZID=America/Vancouver:20230713T170000
DTSTAMP:20260421T102828
CREATED:20230609T031934Z
LAST-MODIFIED:20230629T210428Z
UID:26157-1689235200-1689267600@suquamish.nsn.us
SUMMARY:Family & Friends Center Summer Calendar-Beach Day Outing
DESCRIPTION:July 13 \nBeach Day Outing
URL:https://suquamish.nsn.us/event/family-friends-center-summer-calendar-9/
LOCATION:Family & Friends Youth Center\, 5243 Totten Road\, Poulsbo\, 98370
ATTACH;FMTTYPE=image/png:https://suquamish.nsn.us/wp-content/uploads/2023/06/Summer-FFcalendar.png
END:VEVENT
BEGIN:VEVENT
DTSTART;TZID=America/Vancouver:20230714T080000
DTEND;TZID=America/Vancouver:20230714T170000
DTSTAMP:20260421T102828
CREATED:20230609T033148Z
LAST-MODIFIED:20230629T210456Z
UID:26176-1689321600-1689354000@suquamish.nsn.us
SUMMARY:Family & Friends Center Summer Calendar-Ultimate Frisbee Group & Family Movie Night
DESCRIPTION:July 14 \nUltimate Frisbee Group & Family Movie Night
URL:https://suquamish.nsn.us/event/family-friends-center-summer-calendar-15/
LOCATION:Family & Friends Youth Center\, 5243 Totten Road\, Poulsbo\, 98370
ATTACH;FMTTYPE=image/png:https://suquamish.nsn.us/wp-content/uploads/2023/06/Summer-FFcalendar.png
END:VEVENT
BEGIN:VEVENT
DTSTART;TZID=America/Vancouver:20230717T080000
DTEND;TZID=America/Vancouver:20230717T170000
DTSTAMP:20260421T102828
CREATED:20230609T032307Z
LAST-MODIFIED:20230629T210523Z
UID:26163-1689580800-1689613200@suquamish.nsn.us
SUMMARY:Family & Friends Center Summer Calendar-Cultural craft day @ Youth Center
DESCRIPTION:July 17 \nCultural craft day @ Youth Center
URL:https://suquamish.nsn.us/event/family-friends-center-summer-calendar-11/
LOCATION:Family & Friends Youth Center\, 5243 Totten Road\, Poulsbo\, 98370
ATTACH;FMTTYPE=image/png:https://suquamish.nsn.us/wp-content/uploads/2023/06/Summer-FFcalendar.png
END:VEVENT
BEGIN:VEVENT
DTSTART;TZID=America/Vancouver:20230718T080000
DTEND;TZID=America/Vancouver:20230718T170000
DTSTAMP:20260421T102828
CREATED:20230609T032804Z
LAST-MODIFIED:20230629T210552Z
UID:26170-1689667200-1689699600@suquamish.nsn.us
SUMMARY:Family & Friends Center Summer Calendar-Park Day Outing
DESCRIPTION:July 18 \nPark Day Outing
URL:https://suquamish.nsn.us/event/family-friends-center-summer-calendar-13/
LOCATION:Family & Friends Youth Center\, 5243 Totten Road\, Poulsbo\, 98370
ATTACH;FMTTYPE=image/png:https://suquamish.nsn.us/wp-content/uploads/2023/06/Summer-FFcalendar.png
END:VEVENT
BEGIN:VEVENT
DTSTART;TZID=America/Vancouver:20230719T080000
DTEND;TZID=America/Vancouver:20230719T170000
DTSTAMP:20260421T102828
CREATED:20230609T033307Z
LAST-MODIFIED:20230629T210619Z
UID:26179-1689753600-1689786000@suquamish.nsn.us
SUMMARY:Family & Friends Center Summer Calendar-Seattle Aquarium outing
DESCRIPTION:July 19 \nSeattle Aquarium outing
URL:https://suquamish.nsn.us/event/family-friends-center-summer-calendar-16/
LOCATION:Family & Friends Youth Center\, 5243 Totten Road\, Poulsbo\, 98370
ATTACH;FMTTYPE=image/png:https://suquamish.nsn.us/wp-content/uploads/2023/06/Summer-FFcalendar.png
END:VEVENT
BEGIN:VEVENT
DTSTART;TZID=America/Vancouver:20230720T080000
DTEND;TZID=America/Vancouver:20230720T170000
DTSTAMP:20260421T102828
CREATED:20230609T033425Z
LAST-MODIFIED:20230629T210644Z
UID:26182-1689840000-1689872400@suquamish.nsn.us
SUMMARY:Family & Friends Center Summer Calendar-Craft & water sprinkler
DESCRIPTION:July 20 & 21 \nCraft & water sprinkler
URL:https://suquamish.nsn.us/event/family-friends-center-summer-calendar-17/
LOCATION:Family & Friends Youth Center\, 5243 Totten Road\, Poulsbo\, 98370
ATTACH;FMTTYPE=image/png:https://suquamish.nsn.us/wp-content/uploads/2023/06/Summer-FFcalendar.png
END:VEVENT
BEGIN:VEVENT
DTSTART;TZID=America/Vancouver:20230721T080000
DTEND;TZID=America/Vancouver:20230721T170000
DTSTAMP:20260421T102828
CREATED:20230609T033555Z
LAST-MODIFIED:20230629T210713Z
UID:26185-1689926400-1689958800@suquamish.nsn.us
SUMMARY:Family & Friends Center Summer Calendar-Craft & water sprinkler
DESCRIPTION:July 21 \nCraft & water sprinkler
URL:https://suquamish.nsn.us/event/family-friends-center-summer-calendar-18/
LOCATION:Family & Friends Youth Center\, 5243 Totten Road\, Poulsbo\, 98370
ATTACH;FMTTYPE=image/png:https://suquamish.nsn.us/wp-content/uploads/2023/06/Summer-FFcalendar.png
END:VEVENT
BEGIN:VEVENT
DTSTART;TZID=America/Vancouver:20230726T080000
DTEND;TZID=America/Vancouver:20230726T170000
DTSTAMP:20260421T102828
CREATED:20230714T022922Z
LAST-MODIFIED:20230714T022922Z
UID:26769-1690358400-1690390800@suquamish.nsn.us
SUMMARY:Suquamish Museum Celebrating Our Elder & Community
DESCRIPTION:The Photography of Rich Demain \nExhibit Opening July 26 \n 
URL:https://suquamish.nsn.us/event/suquamish-museum-celebrating-our-elder-community/
LOCATION:Suquamish Museum\, 6861 South Street\, Suquamish \, WA\, 98392\, United States
ATTACH;FMTTYPE=image/jpeg:https://suquamish.nsn.us/wp-content/uploads/2023/07/Demain-Exhibit-2023-1-scaled.jpg
END:VEVENT
BEGIN:VEVENT
DTSTART;TZID=America/Vancouver:20230727T130000
DTEND;TZID=America/Vancouver:20230727T170000
DTSTAMP:20260421T102828
CREATED:20230609T033913Z
LAST-MODIFIED:20230629T210739Z
UID:26191-1690462800-1690477200@suquamish.nsn.us
SUMMARY:Family & Friends Center Summer Calendar-Ice Cream Delivery @ 1pm
DESCRIPTION:July 27 \nIce Cream Delivery @ 1pm
URL:https://suquamish.nsn.us/event/family-friends-center-summer-calendar-20/
LOCATION:Family & Friends Youth Center\, 5243 Totten Road\, Poulsbo\, 98370
ATTACH;FMTTYPE=image/png:https://suquamish.nsn.us/wp-content/uploads/2023/06/Summer-FFcalendar.png
END:VEVENT
BEGIN:VEVENT
DTSTART;TZID=America/Vancouver:20230728T080000
DTEND;TZID=America/Vancouver:20230728T170000
DTSTAMP:20260421T102828
CREATED:20230609T034037Z
LAST-MODIFIED:20230629T210814Z
UID:26194-1690531200-1690563600@suquamish.nsn.us
SUMMARY:Family & Friends Center Summer Calendar-July 28 F & F Center CLOSED
DESCRIPTION:July 28 F & F Center CLOSED
URL:https://suquamish.nsn.us/event/family-friends-center-summer-calendar-21/
LOCATION:Family & Friends Youth Center\, 5243 Totten Road\, Poulsbo\, 98370
ATTACH;FMTTYPE=image/png:https://suquamish.nsn.us/wp-content/uploads/2023/06/Summer-FFcalendar.png
END:VEVENT
BEGIN:VEVENT
DTSTART;TZID=America/Vancouver:20230728T080000
DTEND;TZID=America/Vancouver:20230729T170000
DTSTAMP:20260421T102828
CREATED:20230123T184513Z
LAST-MODIFIED:20230331T203803Z
UID:24498-1690531200-1690650000@suquamish.nsn.us
SUMMARY:Suquamish Hosting Canoe Journey
DESCRIPTION:Suquamish hosting two-day stop on July 28 & 29\,2023 \nHosting dates are subject to change. \nAt House of Awakened Culture- 7235 NE Parkway\, Suquamish 98392
URL:https://suquamish.nsn.us/event/suquamish-hosting-canoe-journey/
LOCATION:House of Awakened Culture\, 7235 NE Parkway\, Suquamish\, WA\, 98392\, United States
ATTACH;FMTTYPE=image/jpeg:https://suquamish.nsn.us/wp-content/uploads/2023/03/Canoe-Journey-2023-Flyer-scaled.jpg
END:VEVENT
BEGIN:VEVENT
DTSTART;TZID=America/Vancouver:20230804T080000
DTEND;TZID=America/Vancouver:20230804T170000
DTSTAMP:20260421T102828
CREATED:20230609T034217Z
LAST-MODIFIED:20230629T210840Z
UID:26197-1691136000-1691168400@suquamish.nsn.us
SUMMARY:Family & Friends Center Summer Calendar-Movie outing
DESCRIPTION:August 4 \nMovie outing
URL:https://suquamish.nsn.us/event/family-friends-center-summer-calendar-22/
LOCATION:Family & Friends Youth Center\, 5243 Totten Road\, Poulsbo\, 98370
ATTACH;FMTTYPE=image/png:https://suquamish.nsn.us/wp-content/uploads/2023/06/Summer-FFcalendar.png
END:VEVENT
BEGIN:VEVENT
DTSTART;TZID=America/Vancouver:20230810T080000
DTEND;TZID=America/Vancouver:20230810T170000
DTSTAMP:20260421T102828
CREATED:20230609T034339Z
LAST-MODIFIED:20230629T210914Z
UID:26200-1691654400-1691686800@suquamish.nsn.us
SUMMARY:Family & Friends Center Summer Calendar-Teen Wild Waves outing
DESCRIPTION:August 10 \nTeen Wild Waves outing
URL:https://suquamish.nsn.us/event/family-friends-center-summer-calendar-23/
LOCATION:Family & Friends Youth Center\, 5243 Totten Road\, Poulsbo\, 98370
ATTACH;FMTTYPE=image/png:https://suquamish.nsn.us/wp-content/uploads/2023/06/Summer-FFcalendar.png
END:VEVENT
BEGIN:VEVENT
DTSTART;TZID=America/Vancouver:20230811T080000
DTEND;TZID=America/Vancouver:20230811T170000
DTSTAMP:20260421T102828
CREATED:20230609T035159Z
LAST-MODIFIED:20230629T210940Z
UID:26208-1691740800-1691773200@suquamish.nsn.us
SUMMARY:Family & Friends Center Summer Calendar-Family Movie Night
DESCRIPTION:August 11 \nFamily Movie Night
URL:https://suquamish.nsn.us/event/family-friends-center-summer-calendar-24/
LOCATION:Family & Friends Youth Center\, 5243 Totten Road\, Poulsbo\, 98370
ATTACH;FMTTYPE=image/png:https://suquamish.nsn.us/wp-content/uploads/2023/06/Summer-FFcalendar.png
END:VEVENT
BEGIN:VEVENT
DTSTART;TZID=America/Vancouver:20230815T080000
DTEND;TZID=America/Vancouver:20230815T170000
DTSTAMP:20260421T102828
CREATED:20230609T035351Z
LAST-MODIFIED:20230629T211010Z
UID:26211-1692086400-1692118800@suquamish.nsn.us
SUMMARY:Family & Friends Center Summer Calendar-MoPOP outing
DESCRIPTION:August 15 \nMoPOP outing
URL:https://suquamish.nsn.us/event/family-friends-center-summer-calendar-25/
LOCATION:Family & Friends Youth Center\, 5243 Totten Road\, Poulsbo\, 98370
ATTACH;FMTTYPE=image/png:https://suquamish.nsn.us/wp-content/uploads/2023/06/Summer-FFcalendar.png
END:VEVENT
BEGIN:VEVENT
DTSTART;TZID=America/Vancouver:20230817T100000
DTEND;TZID=America/Vancouver:20230817T180000
DTSTAMP:20260421T102828
CREATED:20230816T204403Z
LAST-MODIFIED:20230816T204403Z
UID:27160-1692266400-1692295200@suquamish.nsn.us
SUMMARY:Hōkūleʻa Giveaway Workshop
DESCRIPTION:  \nHawaii’s iconic voyaging canoe Hōkūleʻa will be visiting Suquamish later this month. There will be giveaway workshops in the Cultural Activities Office Aug 17 & 21 from 10am-6pm to prepare gifts for the visit.  All are invited. Contact Tina Jackson at tjackson@suquamish\,nsn.us with any questions.
URL:https://suquamish.nsn.us/event/hokule%ca%bba-giveaway-workshop/
LOCATION:Cultural Activities Office\, 15838 Sandyhook Rd\, Poulsbo\, WA\, 98370
CATEGORIES:Community Events
ATTACH;FMTTYPE=image/jpeg:https://suquamish.nsn.us/wp-content/uploads/2023/08/8-17-23-giveawayworkshop.jpg
END:VEVENT
BEGIN:VEVENT
DTSTART;TZID=America/Vancouver:20230818T080000
DTEND;TZID=America/Vancouver:20230820T170000
DTSTAMP:20260421T102828
CREATED:20230621T210148Z
LAST-MODIFIED:20230621T210148Z
UID:26394-1692345600-1692550800@suquamish.nsn.us
SUMMARY:Chief Seattle Days
DESCRIPTION:Open to all! \nAugust 18-20\,2023 \n 
URL:https://suquamish.nsn.us/event/chief-seattle-days/
LOCATION:House of Awakened Culture\, 7235 NE Parkway\, Suquamish\, WA\, 98392\, United States
END:VEVENT
BEGIN:VEVENT
DTSTART;TZID=America/Vancouver:20230821T100000
DTEND;TZID=America/Vancouver:20230821T180000
DTSTAMP:20260421T102828
CREATED:20230816T204835Z
LAST-MODIFIED:20230816T204835Z
UID:27167-1692612000-1692640800@suquamish.nsn.us
SUMMARY:Hōkūleʻa Giveaway Workshop
DESCRIPTION:Hawaii’s iconic voyaging canoe Hōkūleʻa will be visiting Suquamish later this month. There will be giveaway workshops in the Cultural Activities Office Aug 17 & 21 from 10am-6pm to prepare gifts for the visit.  All are invited. Contact Tina Jackson at tjackson@suquamish\,nsn.us with any questions.
URL:https://suquamish.nsn.us/event/hokule%ca%bba-giveaway-workshop-2/
LOCATION:Cultural Activities Office\, 15838 Sandyhook Rd\, Poulsbo\, WA\, 98370
CATEGORIES:Community Events
ATTACH;FMTTYPE=image/jpeg:https://suquamish.nsn.us/wp-content/uploads/2023/08/8-17-23-giveawayworkshop.jpg
END:VEVENT
END:VCALENDAR