BEGIN:VCALENDAR
VERSION:2.0
PRODID:-//The Suquamish Tribe - ECPv6.15.20//NONSGML v1.0//EN
CALSCALE:GREGORIAN
METHOD:PUBLISH
X-WR-CALNAME:The Suquamish Tribe
X-ORIGINAL-URL:https://suquamish.nsn.us
X-WR-CALDESC:Events for The Suquamish Tribe
REFRESH-INTERVAL;VALUE=DURATION:PT1H
X-Robots-Tag:noindex
X-PUBLISHED-TTL:PT1H
BEGIN:VTIMEZONE
TZID:America/Vancouver
BEGIN:DAYLIGHT
TZOFFSETFROM:-0800
TZOFFSETTO:-0700
TZNAME:PDT
DTSTART:20240310T100000
END:DAYLIGHT
BEGIN:STANDARD
TZOFFSETFROM:-0700
TZOFFSETTO:-0800
TZNAME:PST
DTSTART:20241103T090000
END:STANDARD
BEGIN:DAYLIGHT
TZOFFSETFROM:-0800
TZOFFSETTO:-0700
TZNAME:PDT
DTSTART:20250309T100000
END:DAYLIGHT
BEGIN:STANDARD
TZOFFSETFROM:-0700
TZOFFSETTO:-0800
TZNAME:PST
DTSTART:20251102T090000
END:STANDARD
BEGIN:DAYLIGHT
TZOFFSETFROM:-0800
TZOFFSETTO:-0700
TZNAME:PDT
DTSTART:20260308T100000
END:DAYLIGHT
BEGIN:STANDARD
TZOFFSETFROM:-0700
TZOFFSETTO:-0800
TZNAME:PST
DTSTART:20261101T090000
END:STANDARD
END:VTIMEZONE
BEGIN:VEVENT
DTSTART;TZID=America/Vancouver:20250514T170000
DTEND;TZID=America/Vancouver:20250514T193000
DTSTAMP:20260421T151811
CREATED:20250430T182325Z
LAST-MODIFIED:20250430T182325Z
UID:38406-1747242000-1747251000@suquamish.nsn.us
SUMMARY:Spring Greens Mini Symposium
DESCRIPTION:5-7:30pm @ OTC Gym \nLearn about Gathering\, Traditional Foods & Participate in Fun Activities
URL:https://suquamish.nsn.us/event/spring-greens-mini-symposium/
LOCATION:WA
ATTACH;FMTTYPE=image/jpeg:https://suquamish.nsn.us/wp-content/uploads/2025/04/Spring-Greens-2025-flyer-1.jpg
END:VEVENT
BEGIN:VEVENT
DTSTART;TZID=America/Vancouver:20250524T090000
DTEND;TZID=America/Vancouver:20250525T160000
DTSTAMP:20260421T151811
CREATED:20250323T181316Z
LAST-MODIFIED:20250406T172557Z
UID:37925-1748077200-1748188800@suquamish.nsn.us
SUMMARY:Free Scavenger Hunt
DESCRIPTION:Free Scavenger Hunt \nSaturday\, May 24th\, 2025 \nCelebrate National Scavenger Hunt Day with the Suquamish Museum and the City of Poulsbo \nVisit the Suquamish Museum to Pick you scavenger hunt. \nScavenger hunts will be available on Friday May 23rd. \nTo receive a prize scavenger hunt must be returned by 4:00pm Sunday\, May 25th\, 2025
URL:https://suquamish.nsn.us/event/free-scavenger-hunt/
LOCATION:Suquamish Museum\, 6861 South Street\, Suquamish \, WA\, 98392\, United States
CATEGORIES:Suquamish Museum
ATTACH;FMTTYPE=image/jpeg:https://suquamish.nsn.us/wp-content/uploads/2025/03/Scavenger-Hunt-Flyer-2025-Website.jpg
END:VEVENT
BEGIN:VEVENT
DTSTART;TZID=America/Vancouver:20250524T090000
DTEND;TZID=America/Vancouver:20250531T160000
DTSTAMP:20260421T151811
CREATED:20250323T180702Z
LAST-MODIFIED:20250329T191622Z
UID:37922-1748077200-1748707200@suquamish.nsn.us
SUMMARY:Free Admission
DESCRIPTION:Free Admission \nMay 24-31\, 2025 \n9AM-4PM \nFor military personnel who are active duty\, reserve\, retired\, veteran\, disabled veteran\, or dependents. Must present a non-expired military ID to receive up to five free family admission per ID. \nThank you for your service!
URL:https://suquamish.nsn.us/event/free-admission/
LOCATION:Suquamish Museum\, 6861 South Street\, Suquamish \, WA\, 98392\, United States
CATEGORIES:Suquamish Museum
ATTACH;FMTTYPE=image/png:https://suquamish.nsn.us/wp-content/uploads/2025/03/MemorialDay2025-Website-Photo.png
END:VEVENT
BEGIN:VEVENT
DTSTART;TZID=America/Vancouver:20250524T100000
DTEND;TZID=America/Vancouver:20250524T150000
DTSTAMP:20260421T151811
CREATED:20250505T161049Z
LAST-MODIFIED:20250505T161049Z
UID:38464-1748080800-1748098800@suquamish.nsn.us
SUMMARY:Spring Bazaar
DESCRIPTION:May 24 \n10am-3pm @ House of Awakened Culture.
URL:https://suquamish.nsn.us/event/spring-bazaar/
LOCATION:House of Awakened Culture\, 7235 NE Parkway\, Suquamish\, WA\, 98392\, United States
ATTACH;FMTTYPE=image/jpeg:https://suquamish.nsn.us/wp-content/uploads/2025/05/Spring-Bazaar.jpg
END:VEVENT
BEGIN:VEVENT
DTSTART;TZID=America/Vancouver:20250526T080000
DTEND;TZID=America/Vancouver:20250526T163000
DTSTAMP:20260421T151811
CREATED:20250502T175341Z
LAST-MODIFIED:20250502T175341Z
UID:38446-1748246400-1748277000@suquamish.nsn.us
SUMMARY:Memorial Day   Tribal Offices are CLOSED
DESCRIPTION:
URL:https://suquamish.nsn.us/event/memorial-day-tribal-offices-are-closed/
LOCATION:WA
END:VEVENT
BEGIN:VEVENT
DTSTART;TZID=America/Vancouver:20250529T173000
DTEND;TZID=America/Vancouver:20250529T193000
DTSTAMP:20260421T151811
CREATED:20250501T214117Z
LAST-MODIFIED:20250501T214117Z
UID:38432-1748539800-1748547000@suquamish.nsn.us
SUMMARY:Movie Night - Playing for Keeps
DESCRIPTION:Join Suquamish Wellness Center for a relaxed evening with a screening of Playing for Keeps\, a documentary that explores how communities use sports and recreation to support youth mental health and cultural connection. A light dinner will be served\, with fun giveaways like frisbees\, hula-hoops\, jump ropes\, and bubbles – plus a few special raffle prizes! \nFor more information\, call the Health & Wellness Center at (360) 394-8558.
URL:https://suquamish.nsn.us/event/movie-night-playing-for-keeps/
LOCATION:House of Awakened Culture\, 7235 NE Parkway\, Suquamish\, WA\, 98392\, United States
CATEGORIES:Health & Wellness,Wellness Center
ATTACH;FMTTYPE=image/jpeg:https://suquamish.nsn.us/wp-content/uploads/2025/05/playing-for-keeps-poster.jpg
END:VEVENT
BEGIN:VEVENT
DTSTART;TZID=America/Vancouver:20250529T180000
DTEND;TZID=America/Vancouver:20250529T210000
DTSTAMP:20260421T151811
CREATED:20250402T173834Z
LAST-MODIFIED:20250402T182253Z
UID:38116-1748541600-1748552400@suquamish.nsn.us
SUMMARY:A Time to Gather
DESCRIPTION:
URL:https://suquamish.nsn.us/event/a-time-to-gather/
LOCATION:Kiana Lodge\, 14976 Sandy Hook Rd NE\, Poulsbo\, WA\, 98370\, United States
CATEGORIES:Community Events,Culture,Suquamish Foundation
ATTACH;FMTTYPE=image/jpeg:https://suquamish.nsn.us/wp-content/uploads/2025/04/5-29-25-Time-To-Gather-1-1.jpg
END:VEVENT
BEGIN:VEVENT
DTSTART;TZID=America/Vancouver:20250601T100000
DTEND;TZID=America/Vancouver:20250601T130000
DTSTAMP:20260421T151811
CREATED:20250323T175644Z
LAST-MODIFIED:20250329T191219Z
UID:37915-1748772000-1748782800@suquamish.nsn.us
SUMMARY:Beaded Graduation Tassel Charm Workshop
DESCRIPTION:Beaded Graduation Tassel Charm Workshop with Jo Citlali \nJune 1st\, 2025 \n10AM- 1PM \nCreate a beaded graduation tassel charm for that special graduate in your life! \n$100 per person \n\nPayment due to teacher day of\, cash or card accepted\nAll materials included\nClass max is 0 guests\, ages 14+\nopen to public\nThe Elders Program pays registration fees for Suquamish Elders
URL:https://suquamish.nsn.us/event/beaded-graduation-tassel-charm-workshop-with-jo-citlali/
LOCATION:Suquamish Museum\, 6861 South Street\, Suquamish \, WA\, 98392\, United States
CATEGORIES:Suquamish Museum
ATTACH;FMTTYPE=image/png:https://suquamish.nsn.us/wp-content/uploads/2025/03/6.1.2025-workshop-Website-Photo.png
END:VEVENT
BEGIN:VEVENT
DTSTART;TZID=America/Vancouver:20250605T123000
DTEND;TZID=America/Vancouver:20250605T133000
DTSTAMP:20260421T151811
CREATED:20250603T161049Z
LAST-MODIFIED:20250603T162531Z
UID:38740-1749126600-1749130200@suquamish.nsn.us
SUMMARY:Ductless Heat Pump Workshop
DESCRIPTION:Tribal members and families are invited to learn about the Ductless Heat Pump systems\, how they work\, and how they can save money.  \nWHEN: Thursday\, June 5th at 12:30 p.m. \nLOCATION: Elders’ Lunchroom and online via Zoom. To receive the Zoom link\, please email Jennie Harlan at jharlan@suquamish.nsn.us with the subject line DHP.
URL:https://suquamish.nsn.us/event/ductless-heat-pump-workshop/
LOCATION:WA
ATTACH;FMTTYPE=image/jpeg:https://suquamish.nsn.us/wp-content/uploads/2025/06/qtq80-Sm9rFD.jpeg
END:VEVENT
BEGIN:VEVENT
DTSTART;TZID=America/Vancouver:20250607T090000
DTEND;TZID=America/Vancouver:20250608T160000
DTSTAMP:20260421T151811
CREATED:20250323T174616Z
LAST-MODIFIED:20250331T160638Z
UID:37901-1749286800-1749398400@suquamish.nsn.us
SUMMARY:Suquamish Museum's 42nd Anniversary
DESCRIPTION:Suquamish Museum’s 42nd Anniversary \nJune 7-8\, 2025\, 9AM-4PM \n\nFree Admission Weekend\nFree Cupcakes & Coffee\n10% Discount at the Museum Store\n\nCelebrate with us as the Suquamish Museum turns 42! \n\nEnjoy a free admission weekend\n10% discount off your total purchase at the museum store (discounts can be combined with additional discounts)\nFree cupcakes and coffee (one per person\, while supplies last)
URL:https://suquamish.nsn.us/event/suquamish-museums-42nd-anniversary/
LOCATION:Suquamish Museum\, 6861 South Street\, Suquamish \, WA\, 98392\, United States
CATEGORIES:Suquamish Museum
ATTACH;FMTTYPE=image/jpeg:https://suquamish.nsn.us/wp-content/uploads/2025/03/Anniversary-Photo-Website.jpg
END:VEVENT
BEGIN:VEVENT
DTSTART;TZID=America/Vancouver:20250610T090000
DTEND;TZID=America/Vancouver:20250610T120000
DTSTAMP:20260421T151811
CREATED:20250605T165208Z
LAST-MODIFIED:20250605T165811Z
UID:38770-1749546000-1749556800@suquamish.nsn.us
SUMMARY:KPHD Free Children's Vaccination Clinics 2025 - June 10
DESCRIPTION:Free Children’s Vaccination Clinics June 10 & 23\nKitsap Public Health District is offering free\, routine immunizations for children 18 and younger in downtown Bremerton June 10 & 23. No insurance required. \nBook your appointment online! \nVaccines Available\nVaccines available by appointment: \n\nMMR\nVaricella\nHepatitis B\nTdap/DTaP\nHPV\nMeningococcal\nPneumococcal\nHaemophilus influenzae (HIB)\nPolio\n\nCOVID-19 vaccine available without an appointment (for children six months and older). \nWhy should my child get vaccinated?\n\nImmunization (vaccination) is one of the best tools we have for staying healthy. By keeping up to date on vaccinations\, you can protect yourself\, your family\, and your community from potentially serious illnesses.\nVaccines are safe and effective. All vaccines approved for use in the United States have been extensively tested for safety and effectiveness. Experts at the FDA and CDC review safety data before approving and recommending new vaccines for use. Vaccines are continuously monitored even after they are approved.\n\n\nVaccines save lives. Vaccination helps protect us from diseases that can lead to serious illness. The CDC estimates that childhood vaccines save an estimated 4 million lives worldwide each year. By getting immunized\, we can protect ourselves and people around us who might be at higher risk for becoming severely ill from a disease.\n\n\nVaccines save us time. Vaccines help prevent sick days\, giving us more healthy time for school\, work\, and fun.\n\nAdditional resources:\n\nVaccine Safety Monitoring | CDC\nHealthy Kitsap | KPHD\nChildhood Immunizations | KPHD\nSchool and Childcare Immunizations | DOH\nCOVID-19 Vaccines | DOH\nFlu Vaccines | DOH\nChildhood Vaccine Program | DOH
URL:https://suquamish.nsn.us/event/kphd-free-childrens-vaccination-clinics-2025-june-10/
LOCATION:Kitsap Public Health District\, 345 6th Street\, Suite 300 (third floor)\, Bremerton\, WA\, 98337\, United States
CATEGORIES:Community Events,Health & Wellness,Wellness Center
ATTACH;FMTTYPE=image/png:https://suquamish.nsn.us/wp-content/uploads/2024/03/kphd-logo-blue-horizontal-tiny-gif_original.png
END:VEVENT
BEGIN:VEVENT
DTSTART;TZID=America/Vancouver:20250611T080000
DTEND;TZID=America/Vancouver:20250615T160000
DTSTAMP:20260421T151811
CREATED:20250321T185414Z
LAST-MODIFIED:20250321T185532Z
UID:37817-1749628800-1750003200@suquamish.nsn.us
SUMMARY:Complimentary Father's Day Card Making!
DESCRIPTION:Complimentary Father’s Day Card Making! \nJune 11-15\,2025 \n9am-4pm \nJoin us in celebrating the wonderful dads\, grandpas\, or uncles in your life by coloring them a Father’s Day Card! \nall supplies provided\, all ages\, 2 card limit per person
URL:https://suquamish.nsn.us/event/complimentary-fathers-day-card-making/
LOCATION:Suquamish Museum\, 6861 South Street\, Suquamish \, WA\, 98392\, United States
CATEGORIES:Suquamish Museum
ATTACH;FMTTYPE=image/jpeg:https://suquamish.nsn.us/wp-content/uploads/2025/03/FathersDayActivity2025-Website-Photo.jpg
END:VEVENT
BEGIN:VEVENT
DTSTART;TZID=America/Vancouver:20250614T080000
DTEND;TZID=America/Vancouver:20250614T160000
DTSTAMP:20260421T151811
CREATED:20250321T184318Z
LAST-MODIFIED:20250331T185939Z
UID:37808-1749888000-1749916800@suquamish.nsn.us
SUMMARY:Second Saturday Free Admission
DESCRIPTION:Second Saturday Free Admission \nJune 14th\, 2025 \nJoin us for free admission at the Suquamish Museum \nThe Second Saturday of every month! \nThe museum is free to the public every second Saturday of the month. For more information visit our website at \nSuquamishmuseum.org
URL:https://suquamish.nsn.us/event/second-saturday/
LOCATION:Suquamish Museum\, 6861 South Street\, Suquamish \, WA\, 98392\, United States
CATEGORIES:Suquamish Museum
ATTACH;FMTTYPE=image/jpeg:https://suquamish.nsn.us/wp-content/uploads/2025/03/Second-Saturday-Website-1.jpg
END:VEVENT
BEGIN:VEVENT
DTSTART;TZID=America/Vancouver:20250623T090000
DTEND;TZID=America/Vancouver:20250623T150000
DTSTAMP:20260421T151811
CREATED:20250605T165757Z
LAST-MODIFIED:20250605T165757Z
UID:38777-1750669200-1750690800@suquamish.nsn.us
SUMMARY:KPHD Free Children's Vaccination Clinics 2025 - June 23
DESCRIPTION:Free Children’s Vaccination Clinics June 10 & 23\nKitsap Public Health District is offering free\, routine immunizations for children 18 and younger in downtown Bremerton June 10 & 23. No insurance required. \nBook your appointment online! \nVaccines Available\nVaccines available by appointment: \n\nMMR\nVaricella\nHepatitis B\nTdap/DTaP\nHPV\nMeningococcal\nPneumococcal\nHaemophilus influenzae (HIB)\nPolio\n\nCOVID-19 vaccine available without an appointment (for children six months and older). \nWhy should my child get vaccinated?\n\nImmunization (vaccination) is one of the best tools we have for staying healthy. By keeping up to date on vaccinations\, you can protect yourself\, your family\, and your community from potentially serious illnesses.\nVaccines are safe and effective. All vaccines approved for use in the United States have been extensively tested for safety and effectiveness. Experts at the FDA and CDC review safety data before approving and recommending new vaccines for use. Vaccines are continuously monitored even after they are approved.\n\n\nVaccines save lives. Vaccination helps protect us from diseases that can lead to serious illness. The CDC estimates that childhood vaccines save an estimated 4 million lives worldwide each year. By getting immunized\, we can protect ourselves and people around us who might be at higher risk for becoming severely ill from a disease.\n\n\nVaccines save us time. Vaccines help prevent sick days\, giving us more healthy time for school\, work\, and fun.\n\nAdditional resources:\n\nVaccine Safety Monitoring | CDC\nHealthy Kitsap | KPHD\nChildhood Immunizations | KPHD\nSchool and Childcare Immunizations | DOH\nCOVID-19 Vaccines | DOH\nFlu Vaccines | DOH\nChildhood Vaccine Program | DOH
URL:https://suquamish.nsn.us/event/kphd-free-childrens-vaccination-clinics-2025-june-23/
LOCATION:Kitsap Public Health District\, 345 6th Street\, Suite 300 (third floor)\, Bremerton\, WA\, 98337\, United States
CATEGORIES:Community Events,Health & Wellness,Wellness Center
ATTACH;FMTTYPE=image/png:https://suquamish.nsn.us/wp-content/uploads/2024/03/kphd-logo-blue-horizontal-tiny-gif_original.png
END:VEVENT
BEGIN:VEVENT
DTSTART;TZID=America/Vancouver:20250628T100000
DTEND;TZID=America/Vancouver:20250628T160000
DTSTAMP:20260421T151811
CREATED:20250321T173927Z
LAST-MODIFIED:20250329T191819Z
UID:37798-1751104800-1751126400@suquamish.nsn.us
SUMMARY:Small Cedar Basket Workshop
DESCRIPTION:Small Cedar Basket Workshop\n10:00am-4:00pm\n$120 per person\nPayment is made to the teacher on the day of. Cash or card accepted\nAll materials are provided. \nOpen to the public\nto register contact the Suquamish museum AT (360)394-7105 or email\nMuseum@suquamish.nsn.us\nThe Elder’s program pays for Suquamish Elders
URL:https://suquamish.nsn.us/event/small-cedar-basket-workshop-led-by-tribal-elder-kippie-joe/
LOCATION:Suquamish Museum\, 6861 South Street\, Suquamish \, WA\, 98392\, United States
CATEGORIES:Suquamish Museum
ATTACH;FMTTYPE=image/png:https://suquamish.nsn.us/wp-content/uploads/2025/03/Small-Cedar-Basket-Workshop-2025-website.png
END:VEVENT
BEGIN:VEVENT
DTSTART;VALUE=DATE:20250727
DTEND;VALUE=DATE:20250729
DTSTAMP:20260421T151811
CREATED:20250702T201439Z
LAST-MODIFIED:20250702T223656Z
UID:39149-1753574400-1753747199@suquamish.nsn.us
SUMMARY:Canoe Journey Hosting in Suquamish
DESCRIPTION:
URL:https://suquamish.nsn.us/event/canoe-journey-hosting-in-suquamish-2/
LOCATION:WA
CATEGORIES:Community Events,Culture
ATTACH;FMTTYPE=image/jpeg:https://suquamish.nsn.us/wp-content/uploads/2018/07/2009-Canoe-Journey-Landing-in-Suquamish-for-Web.jpg
END:VEVENT
BEGIN:VEVENT
DTSTART;TZID=America/Vancouver:20250815T090000
DTEND;TZID=America/Vancouver:20250815T130000
DTSTAMP:20260421T151811
CREATED:20250723T190825Z
LAST-MODIFIED:20250723T191042Z
UID:39402-1755248400-1755262800@suquamish.nsn.us
SUMMARY:Chief Seattle Days Golf Tournament
DESCRIPTION:
URL:https://suquamish.nsn.us/event/chief-seattle-days-golf-tournament/
LOCATION:Whitehorse Golf Club\, 22795 Three Lions Pl NE\, Kingston\, WA\, 98346\, United States
CATEGORIES:Community Events,Sports & Recreation
ATTACH;FMTTYPE=image/jpeg:https://suquamish.nsn.us/wp-content/uploads/2025/07/2025_CSD_GolfTourney_22x28.jpg
END:VEVENT
BEGIN:VEVENT
DTSTART;TZID=America/Vancouver:20250815T150000
DTEND;TZID=America/Vancouver:20250817T170000
DTSTAMP:20260421T151811
CREATED:20250701T205151Z
LAST-MODIFIED:20250815T210622Z
UID:39111-1755270000-1755450000@suquamish.nsn.us
SUMMARY:Chief Seattle Days 2025: Aug 15-17
DESCRIPTION:
URL:https://suquamish.nsn.us/event/chief-seattle-days-2025/
LOCATION:WA
CATEGORIES:Community Events,Culture
ATTACH;FMTTYPE=image/png:https://suquamish.nsn.us/wp-content/uploads/2025/06/CSD2025logo-gradients.png
END:VEVENT
BEGIN:VEVENT
DTSTART;TZID=America/Vancouver:20250903T090000
DTEND;TZID=America/Vancouver:20250907T160000
DTSTAMP:20260421T151811
CREATED:20250903T165953Z
LAST-MODIFIED:20250903T165953Z
UID:39821-1756890000-1757260800@suquamish.nsn.us
SUMMARY:Complimentary Grandparent's Day Card Making
DESCRIPTION:Sept. 3-7\,2025 \n9am-4pm
URL:https://suquamish.nsn.us/event/complimentary-grandparents-day-card-making/
LOCATION:Suquamish Museum\, 6861 South Street\, Suquamish \, WA\, 98392\, United States
ATTACH;FMTTYPE=image/jpeg:https://suquamish.nsn.us/wp-content/uploads/2025/09/Grandparents-2025-3-x-3-in.jpg
END:VEVENT
BEGIN:VEVENT
DTSTART;TZID=America/Vancouver:20250913T090000
DTEND;TZID=America/Vancouver:20250913T160000
DTSTAMP:20260421T151811
CREATED:20250903T170936Z
LAST-MODIFIED:20250903T170936Z
UID:39828-1757754000-1757779200@suquamish.nsn.us
SUMMARY:Museum FREE Admission
DESCRIPTION:
URL:https://suquamish.nsn.us/event/museum-free-admission/
LOCATION:Suquamish Museum\, 6861 South Street\, Suquamish \, WA\, 98392\, United States
ATTACH;FMTTYPE=image/jpeg:https://suquamish.nsn.us/wp-content/uploads/2025/09/9-13-.25-Second-Saturday-3-x-3-in.jpg
END:VEVENT
BEGIN:VEVENT
DTSTART;TZID=America/Vancouver:20250913T153000
DTEND;TZID=America/Vancouver:20250913T200000
DTSTAMP:20260421T151811
CREATED:20250903T164240Z
LAST-MODIFIED:20250903T164240Z
UID:39817-1757777400-1757793600@suquamish.nsn.us
SUMMARY:Suquamish Wellness Recovery Coastal Jam
DESCRIPTION:Saturday\, Sept. 13 \n3:30-8pm \nAt Old Tribal Center \n15838 Sandy Hook Rd. \nPoulsbo Wa.
URL:https://suquamish.nsn.us/event/suquamish-wellness-recovery-coastal-jam/
LOCATION:WA
ATTACH;FMTTYPE=application/pdf:https://suquamish.nsn.us/wp-content/uploads/2025/09/Flyer-Coastal-Jam-1.pdf
END:VEVENT
BEGIN:VEVENT
DTSTART;TZID=America/Vancouver:20250917T090000
DTEND;TZID=America/Vancouver:20250921T160000
DTSTAMP:20260421T151811
CREATED:20250903T161838Z
LAST-MODIFIED:20250903T161838Z
UID:39805-1758099600-1758470400@suquamish.nsn.us
SUMMARY:Welcome Fall Free Leaf Activity
DESCRIPTION:Sept.17-21\,2025 \n9am-4pm @ Suquamish Museum
URL:https://suquamish.nsn.us/event/welcome-fall-free-leaf-activity/
LOCATION:Suquamish Museum\, 6861 NE South St\, Suquamish\, WA\, 98392\, United States
ATTACH;FMTTYPE=image/jpeg:https://suquamish.nsn.us/wp-content/uploads/2025/09/Fall-Activity-2025-3-x-3-in.jpg
END:VEVENT
BEGIN:VEVENT
DTSTART;TZID=America/Vancouver:20250920T083000
DTEND;TZID=America/Vancouver:20250920T180000
DTSTAMP:20260421T151811
CREATED:20250912T222942Z
LAST-MODIFIED:20250912T223230Z
UID:39929-1758357000-1758391200@suquamish.nsn.us
SUMMARY:Salmon Homecoming
DESCRIPTION:Visit the Salmon Homecoming to learn more about the event.
URL:https://suquamish.nsn.us/event/salmon-homecoming/
LOCATION:WA
ATTACH;FMTTYPE=image/png:https://suquamish.nsn.us/wp-content/uploads/2025/09/Screenshot-2025-09-12-153123.png
END:VEVENT
BEGIN:VEVENT
DTSTART;TZID=America/Vancouver:20250925T163000
DTEND;TZID=America/Vancouver:20250925T183000
DTSTAMP:20260421T151811
CREATED:20250903T170531Z
LAST-MODIFIED:20250903T170531Z
UID:39824-1758817800-1758825000@suquamish.nsn.us
SUMMARY:PSE Home Energy & Weatherization Event
DESCRIPTION:Sept. 25\,2025 \n4:30-6:30pm \nAt CKA Commons Building \n16301 Creative Dr. NE \nPoulsbo Wa.
URL:https://suquamish.nsn.us/event/pse-home-energy-weatherization-event/
LOCATION:Chief Kitsap Academy\, 16301 Creative Drive NE\, Poulsbo\, WA\, 98370\, United States
ATTACH;FMTTYPE=application/pdf:https://suquamish.nsn.us/wp-content/uploads/2025/09/PSE-Event-1.pdf
END:VEVENT
BEGIN:VEVENT
DTSTART;TZID=America/Vancouver:20250927T083000
DTEND;TZID=America/Vancouver:20250927T120000
DTSTAMP:20260421T151811
CREATED:20250903T162854Z
LAST-MODIFIED:20250918T172702Z
UID:39810-1758961800-1758974400@suquamish.nsn.us
SUMMARY:Fathers Matter Community Cafe
DESCRIPTION:Sept. 27 \n8:30am-12pm \nChief Kitsap Academy Commons \nQuestions (360) 394-8527
URL:https://suquamish.nsn.us/event/fathers-matter-community-cafe/
LOCATION:Chief Kitsap Academy\, 16301 Creative Drive NE\, Poulsbo\, WA\, 98370\, United States
ATTACH;FMTTYPE=image/jpeg:https://suquamish.nsn.us/wp-content/uploads/2025/09/Fathers-Matter-Community-Cafe-Flyer-with-QR-and-updated-address.jpg
END:VEVENT
BEGIN:VEVENT
DTSTART;TZID=America/Vancouver:20250927T100000
DTEND;TZID=America/Vancouver:20250927T140000
DTSTAMP:20260421T151811
CREATED:20250903T161545Z
LAST-MODIFIED:20250903T161545Z
UID:39801-1758967200-1758981600@suquamish.nsn.us
SUMMARY:Cedar Woven Vase Workshop
DESCRIPTION:Sept.27 @ 10am-2pm \nTo Register contact the Suquamish Museum (360) 394-7105
URL:https://suquamish.nsn.us/event/cedar-woven-vase-workshop/
LOCATION:Suquamish Museum\, 6861 NE South St\, Suquamish\, WA\, 98392\, United States
ATTACH;FMTTYPE=image/jpeg:https://suquamish.nsn.us/wp-content/uploads/2025/09/Cedar-Vase-Workshop-2025-3-x-3-in.jpg
END:VEVENT
BEGIN:VEVENT
DTSTART;TZID=America/Vancouver:20251003T090000
DTEND;TZID=America/Vancouver:20251003T130000
DTSTAMP:20260421T151811
CREATED:20251001T183809Z
LAST-MODIFIED:20251001T190419Z
UID:40215-1759482000-1759496400@suquamish.nsn.us
SUMMARY:Health Fair - for Suquamish Tribal Members & Staff
DESCRIPTION:
URL:https://suquamish.nsn.us/event/health-fair-for-suquamish-tribal-members-staff/
LOCATION:Kiana Lodge\, 14976 Sandy Hook Rd NE\, Poulsbo\, WA\, 98370\, United States
ATTACH;FMTTYPE=image/jpeg:https://suquamish.nsn.us/wp-content/uploads/2025/10/2025-Health-Fair_New-Location-1.jpg
END:VEVENT
BEGIN:VEVENT
DTSTART;TZID=America/Vancouver:20251011T090000
DTEND;TZID=America/Vancouver:20251011T170000
DTSTAMP:20260421T151811
CREATED:20250924T212205Z
LAST-MODIFIED:20250924T212205Z
UID:40073-1760173200-1760202000@suquamish.nsn.us
SUMMARY:Suquamish Museum FREE Admission
DESCRIPTION:
URL:https://suquamish.nsn.us/event/suquamish-museum-free-admission-3/
LOCATION:Suquamish Museum\, 6861 NE South St\, Suquamish\, WA\, 98392\, United States
ATTACH;FMTTYPE=image/jpeg:https://suquamish.nsn.us/wp-content/uploads/2025/09/9-13-.25-Second-Saturday-3-x-3-in-1.jpg
END:VEVENT
BEGIN:VEVENT
DTSTART;TZID=America/Vancouver:20251011T130000
DTEND;TZID=America/Vancouver:20251011T170000
DTSTAMP:20260421T151811
CREATED:20250903T163859Z
LAST-MODIFIED:20250903T163859Z
UID:39814-1760187600-1760202000@suquamish.nsn.us
SUMMARY:Suquamish presents: Native Artist Empowerment Workshop
DESCRIPTION:Sat. Oct 11\,2025 \n1-5pm \nLocation: BARN 8890 Three Lane NE\, B.I
URL:https://suquamish.nsn.us/event/suquamish-presents-native-artist-empowerment-workshop/
LOCATION:WA
ATTACH;FMTTYPE=image/jpeg:https://suquamish.nsn.us/wp-content/uploads/2025/09/Final_Native-Artist-Empowerment-Workshop-Flyer.jpg
END:VEVENT
BEGIN:VEVENT
DTSTART;TZID=America/Vancouver:20251011T130000
DTEND;TZID=America/Vancouver:20251011T170000
DTSTAMP:20260421T151811
CREATED:20250924T213141Z
LAST-MODIFIED:20250924T213141Z
UID:40079-1760187600-1760202000@suquamish.nsn.us
SUMMARY:Suquamish Museum FREE showing of Fish War.
DESCRIPTION:Oct.11\,205 at 1pm \nSeating is limited
URL:https://suquamish.nsn.us/event/suquamish-museum-free-showing-of-fish-war/
LOCATION:Suquamish Museum\, 6861 NE South St\, Suquamish\, WA\, 98392\, United States
ATTACH;FMTTYPE=image/jpeg:https://suquamish.nsn.us/wp-content/uploads/2025/09/FISH-WAR-3-x-4-in.jpg
END:VEVENT
END:VCALENDAR